BEGIN:VCALENDAR
VERSION:2.0
PRODID:-//Colne Yacht Club - ECPv6.15.17.1//NONSGML v1.0//EN
CALSCALE:GREGORIAN
METHOD:PUBLISH
X-ORIGINAL-URL:https://colneyachtclub.org.uk
X-WR-CALDESC:Events for Colne Yacht Club
REFRESH-INTERVAL;VALUE=DURATION:PT1H
X-Robots-Tag:noindex
X-PUBLISHED-TTL:PT1H
BEGIN:VTIMEZONE
TZID:Europe/London
BEGIN:DAYLIGHT
TZOFFSETFROM:+0000
TZOFFSETTO:+0100
TZNAME:BST
DTSTART:20230326T010000
END:DAYLIGHT
BEGIN:STANDARD
TZOFFSETFROM:+0100
TZOFFSETTO:+0000
TZNAME:GMT
DTSTART:20231029T010000
END:STANDARD
BEGIN:DAYLIGHT
TZOFFSETFROM:+0000
TZOFFSETTO:+0100
TZNAME:BST
DTSTART:20240331T010000
END:DAYLIGHT
BEGIN:STANDARD
TZOFFSETFROM:+0100
TZOFFSETTO:+0000
TZNAME:GMT
DTSTART:20241027T010000
END:STANDARD
BEGIN:DAYLIGHT
TZOFFSETFROM:+0000
TZOFFSETTO:+0100
TZNAME:BST
DTSTART:20250330T010000
END:DAYLIGHT
BEGIN:STANDARD
TZOFFSETFROM:+0100
TZOFFSETTO:+0000
TZNAME:GMT
DTSTART:20251026T010000
END:STANDARD
END:VTIMEZONE
BEGIN:VEVENT
DTSTART;TZID=Europe/London:20240411T091500
DTEND;TZID=Europe/London:20240411T130000
DTSTAMP:20260419T210534
CREATED:20240327T165207Z
LAST-MODIFIED:20240327T165759Z
UID:4916-1712826900-1712840400@colneyachtclub.org.uk
SUMMARY:WoW 2024 Sailing Programme
DESCRIPTION:Every other Thursday starting on 11th April 2024 to 17th October 20245.  From 0915 to 1300\, followed by lunch at the clubhouse. 6th June is a cruising day.
URL:https://colneyachtclub.org.uk/event/women-on-the-water-2024-sailing-programme/
LOCATION:Colne Yacht Club
CATEGORIES:Training,WOW
ATTACH;FMTTYPE=image/jpeg:https://colneyachtclub.org.uk/wp-content/uploads/2022/02/SonataHeats2017_100.jpg
END:VEVENT
BEGIN:VEVENT
DTSTART;TZID=Europe/London:20240720T090000
DTEND;TZID=Europe/London:20240720T110000
DTSTAMP:20260419T210534
CREATED:20240717T093356Z
LAST-MODIFIED:20240717T093523Z
UID:5155-1721466000-1721473200@colneyachtclub.org.uk
SUMMARY:All You Can Eat Breakfast!
DESCRIPTION:Starting Saturday 4th May 9am – 11am\, then every Saturday throughout the summer. Join us for an all-you-can-eat breakfast buffet. Cost £8.50.
URL:https://colneyachtclub.org.uk/event/all-you-can-eat-breakfast-2/
END:VEVENT
BEGIN:VEVENT
DTSTART;VALUE=DATE:20240819
DTEND;VALUE=DATE:20240821
DTSTAMP:20260419T210534
CREATED:20240731T094751Z
LAST-MODIFIED:20240731T094751Z
UID:5239-1724025600-1724198399@colneyachtclub.org.uk
SUMMARY:PB2 Course
DESCRIPTION:
URL:https://colneyachtclub.org.uk/event/pb2-course/
CATEGORIES:Training
ATTACH;FMTTYPE=image/jpeg:https://colneyachtclub.org.uk/wp-content/uploads/2024/03/PBTraining.jpg
END:VEVENT
BEGIN:VEVENT
DTSTART;VALUE=DATE:20240818
DTEND;VALUE=DATE:20240824
DTSTAMP:20260419T210534
CREATED:20240731T093908Z
LAST-MODIFIED:20240731T094429Z
UID:5232-1723939200-1724457599@colneyachtclub.org.uk
SUMMARY:Mersea Week
DESCRIPTION:
URL:https://colneyachtclub.org.uk/event/mersea-week/
CATEGORIES:Regatta
END:VEVENT
BEGIN:VEVENT
DTSTART;TZID=Europe/London:20240817T090000
DTEND;TZID=Europe/London:20240822T130000
DTSTAMP:20260419T210534
CREATED:20240731T093105Z
LAST-MODIFIED:20240731T093435Z
UID:5228-1723885200-1724331600@colneyachtclub.org.uk
SUMMARY:Summer Series 4
DESCRIPTION:
URL:https://colneyachtclub.org.uk/event/summer-4/
CATEGORIES:Club Races
END:VEVENT
BEGIN:VEVENT
DTSTART;TZID=Europe/London:20240720T090000
DTEND;TZID=Europe/London:20240720T110000
DTSTAMP:20260419T210534
CREATED:20240717T093356Z
LAST-MODIFIED:20240717T093523Z
UID:5155-1721466000-1721473200@colneyachtclub.org.uk
SUMMARY:All You Can Eat Breakfast!
DESCRIPTION:Starting Saturday 4th May 9am – 11am\, then every Saturday throughout the summer. Join us for an all-you-can-eat breakfast buffet. Cost £8.50.
URL:https://colneyachtclub.org.uk/event/all-you-can-eat-breakfast-2/
END:VEVENT
BEGIN:VEVENT
DTSTART;TZID=Europe/London:20240816T180000
DTEND;TZID=Europe/London:20240816T193000
DTSTAMP:20260419T210534
CREATED:20240731T092638Z
LAST-MODIFIED:20240731T092638Z
UID:5224-1723831200-1723836600@colneyachtclub.org.uk
SUMMARY:Pursuit Race 7
DESCRIPTION:
URL:https://colneyachtclub.org.uk/event/pursuit-race-7/
CATEGORIES:Club Races
END:VEVENT
BEGIN:VEVENT
DTSTART;TZID=Europe/London:20240411T091500
DTEND;TZID=Europe/London:20240411T130000
DTSTAMP:20260419T210534
CREATED:20240327T165207Z
LAST-MODIFIED:20240327T165759Z
UID:4916-1712826900-1712840400@colneyachtclub.org.uk
SUMMARY:WoW 2024 Sailing Programme
DESCRIPTION:Every other Thursday starting on 11th April 2024 to 17th October 20245.  From 0915 to 1300\, followed by lunch at the clubhouse. 6th June is a cruising day.
URL:https://colneyachtclub.org.uk/event/women-on-the-water-2024-sailing-programme/
LOCATION:Colne Yacht Club
CATEGORIES:Training,WOW
ATTACH;FMTTYPE=image/jpeg:https://colneyachtclub.org.uk/wp-content/uploads/2022/02/SonataHeats2017_100.jpg
END:VEVENT
BEGIN:VEVENT
DTSTART;TZID=Europe/London:20240814T183000
DTEND;TZID=Europe/London:20240814T203000
DTSTAMP:20260419T210534
CREATED:20240731T092835Z
LAST-MODIFIED:20240731T092835Z
UID:5226-1723660200-1723667400@colneyachtclub.org.uk
SUMMARY:Mid-week League 13
DESCRIPTION:
URL:https://colneyachtclub.org.uk/event/mid-week-league-13/
CATEGORIES:Club Races
END:VEVENT
BEGIN:VEVENT
DTSTART;TZID=Europe/London:20240810T140000
DTEND;TZID=Europe/London:20240810T170000
DTSTAMP:20260419T210534
CREATED:20240731T092413Z
LAST-MODIFIED:20240731T092413Z
UID:5222-1723298400-1723309200@colneyachtclub.org.uk
SUMMARY:Summer 3
DESCRIPTION:
URL:https://colneyachtclub.org.uk/event/summer-3-2/
CATEGORIES:Club Races
END:VEVENT
BEGIN:VEVENT
DTSTART;TZID=Europe/London:20240720T090000
DTEND;TZID=Europe/London:20240720T110000
DTSTAMP:20260419T210534
CREATED:20240717T093356Z
LAST-MODIFIED:20240717T093523Z
UID:5155-1721466000-1721473200@colneyachtclub.org.uk
SUMMARY:All You Can Eat Breakfast!
DESCRIPTION:Starting Saturday 4th May 9am – 11am\, then every Saturday throughout the summer. Join us for an all-you-can-eat breakfast buffet. Cost £8.50.
URL:https://colneyachtclub.org.uk/event/all-you-can-eat-breakfast-2/
END:VEVENT
BEGIN:VEVENT
DTSTART;TZID=Europe/London:20240809T180000
DTEND;TZID=Europe/London:20240809T193000
DTSTAMP:20260419T210534
CREATED:20240731T092154Z
LAST-MODIFIED:20240731T092154Z
UID:5220-1723226400-1723231800@colneyachtclub.org.uk
SUMMARY:Pursuit Race 6
DESCRIPTION:
URL:https://colneyachtclub.org.uk/event/pursuit-race-6/
CATEGORIES:Club Races
END:VEVENT
BEGIN:VEVENT
DTSTART;TZID=Europe/London:20240807T183000
DTEND;TZID=Europe/London:20240807T200000
DTSTAMP:20260419T210534
CREATED:20240731T091946Z
LAST-MODIFIED:20240731T091946Z
UID:5218-1723055400-1723060800@colneyachtclub.org.uk
SUMMARY:Mid-week League 11\,12
DESCRIPTION:
URL:https://colneyachtclub.org.uk/event/mid-week-league-1112/
CATEGORIES:Club Races
END:VEVENT
BEGIN:VEVENT
DTSTART;VALUE=DATE:20240804
DTEND;VALUE=DATE:20240810
DTSTAMP:20260419T210534
CREATED:20240731T091439Z
LAST-MODIFIED:20240731T091439Z
UID:5213-1722729600-1723247999@colneyachtclub.org.uk
SUMMARY:Pyefleet Week
DESCRIPTION:More details here..
URL:https://colneyachtclub.org.uk/event/pyefleet-week/
CATEGORIES:Regatta
ATTACH;FMTTYPE=image/jpeg:https://colneyachtclub.org.uk/wp-content/uploads/2024/07/PyefleetWeek2024.jpg
END:VEVENT
BEGIN:VEVENT
DTSTART;TZID=Europe/London:20240803T100000
DTEND;TZID=Europe/London:20240803T130000
DTSTAMP:20260419T210534
CREATED:20240731T091705Z
LAST-MODIFIED:20240731T091705Z
UID:5216-1722679200-1722690000@colneyachtclub.org.uk
SUMMARY:Summer 2
DESCRIPTION:
URL:https://colneyachtclub.org.uk/event/summer-2-2/
CATEGORIES:Club Races
END:VEVENT
BEGIN:VEVENT
DTSTART;TZID=Europe/London:20240720T090000
DTEND;TZID=Europe/London:20240720T110000
DTSTAMP:20260419T210534
CREATED:20240717T093356Z
LAST-MODIFIED:20240717T093523Z
UID:5155-1721466000-1721473200@colneyachtclub.org.uk
SUMMARY:All You Can Eat Breakfast!
DESCRIPTION:Starting Saturday 4th May 9am – 11am\, then every Saturday throughout the summer. Join us for an all-you-can-eat breakfast buffet. Cost £8.50.
URL:https://colneyachtclub.org.uk/event/all-you-can-eat-breakfast-2/
END:VEVENT
BEGIN:VEVENT
DTSTART;TZID=Europe/London:20240802T180000
DTEND;TZID=Europe/London:20240802T220000
DTSTAMP:20260419T210534
CREATED:20240731T094418Z
LAST-MODIFIED:20240731T094418Z
UID:5235-1722621600-1722636000@colneyachtclub.org.uk
SUMMARY:Cadet Activity Week Family Celebration
DESCRIPTION:
URL:https://colneyachtclub.org.uk/event/cadet-activity-week-family-celebration/
LOCATION:Colne Yacht Club
CATEGORIES:Cadets,Social Events
END:VEVENT
BEGIN:VEVENT
DTSTART;TZID=Europe/London:20240411T091500
DTEND;TZID=Europe/London:20240411T130000
DTSTAMP:20260419T210534
CREATED:20240327T165207Z
LAST-MODIFIED:20240327T165759Z
UID:4916-1712826900-1712840400@colneyachtclub.org.uk
SUMMARY:WoW 2024 Sailing Programme
DESCRIPTION:Every other Thursday starting on 11th April 2024 to 17th October 20245.  From 0915 to 1300\, followed by lunch at the clubhouse. 6th June is a cruising day.
URL:https://colneyachtclub.org.uk/event/women-on-the-water-2024-sailing-programme/
LOCATION:Colne Yacht Club
CATEGORIES:Training,WOW
ATTACH;FMTTYPE=image/jpeg:https://colneyachtclub.org.uk/wp-content/uploads/2022/02/SonataHeats2017_100.jpg
END:VEVENT
BEGIN:VEVENT
DTSTART;VALUE=DATE:20240728
DTEND;VALUE=DATE:20240803
DTSTAMP:20260419T210534
CREATED:20240428T120749Z
LAST-MODIFIED:20240714T111547Z
UID:4987-1722124800-1722643199@colneyachtclub.org.uk
SUMMARY:Cadet Activity Week
DESCRIPTION:Hi all\, \nCadet Activity Week begins on Monday 29th July this year. This is the highlight of the year for cadets and a very important sailing week for the club.  For this to be a success we need help and support from parents and the members. \nPlease contact me if you are able to help with the planning and preparation.  Let me\, Tom or Dan know if you are interested in helping and I will arrange a teams meeting to discuss what needs to be done. \nAny ideas or suggestions for Cadet Activity Week are always welcome. \nSimon Hodgkinson \n07985632275
URL:https://colneyachtclub.org.uk/event/cadet-activity-week/
CATEGORIES:Cadets,Club Races,Regatta,Social Events,Volunteers
ATTACH;FMTTYPE=image/jpeg:https://colneyachtclub.org.uk/wp-content/uploads/2024/04/523DAFF8-F682-43D9-9A02-DCBB1D56A713_4_5005_c.jpeg
END:VEVENT
BEGIN:VEVENT
DTSTART;TZID=Europe/London:20240720T090000
DTEND;TZID=Europe/London:20240720T110000
DTSTAMP:20260419T210534
CREATED:20240717T093356Z
LAST-MODIFIED:20240717T093523Z
UID:5155-1721466000-1721473200@colneyachtclub.org.uk
SUMMARY:All You Can Eat Breakfast!
DESCRIPTION:Starting Saturday 4th May 9am – 11am\, then every Saturday throughout the summer. Join us for an all-you-can-eat breakfast buffet. Cost £8.50.
URL:https://colneyachtclub.org.uk/event/all-you-can-eat-breakfast-2/
END:VEVENT
BEGIN:VEVENT
DTSTART;TZID=Europe/London:20240726T180000
DTEND;TZID=Europe/London:20240726T193000
DTSTAMP:20260419T210534
CREATED:20240623T104721Z
LAST-MODIFIED:20240623T110010Z
UID:5089-1722016800-1722022200@colneyachtclub.org.uk
SUMMARY:Pursuit Race 5
DESCRIPTION:Unsuitable tides!
URL:https://colneyachtclub.org.uk/event/pursuit-race-5/
END:VEVENT
BEGIN:VEVENT
DTSTART;TZID=Europe/London:20240724T183000
DTEND;TZID=Europe/London:20240724T203000
DTSTAMP:20260419T210534
CREATED:20240623T104520Z
LAST-MODIFIED:20240623T104520Z
UID:5087-1721845800-1721853000@colneyachtclub.org.uk
SUMMARY:Mid Week League 9\,10
DESCRIPTION:
URL:https://colneyachtclub.org.uk/event/mid-week-league-910/
CATEGORIES:Club Races
END:VEVENT
BEGIN:VEVENT
DTSTART;VALUE=DATE:20240722
DTEND;VALUE=DATE:20240723
DTSTAMP:20260419T210534
CREATED:20240714T113002Z
LAST-MODIFIED:20240715T134049Z
UID:5126-1721606400-1721692799@colneyachtclub.org.uk
SUMMARY:BUFA Composites Sonata Mini Series Championship - 22nd July
DESCRIPTION:We’re looking for some Sonatas\, skippers and crew on Monday 22/07/24 for a day to compete in a mini 3 x race regatta (white sails only) at our Colne Yacht Club.\nMark White @ BUFA Composites has kindly sponsored two of our club Sonatas this year and in return we have agreed to lay on some Sonata racing for them all. We will be looking at placing a BUFA representative on each boat taking place in the day’s racing.\nThe day will include\n\nfull English breakfast\npacked lunch\nlate afternoon BBQ\n\n..all for £25.\nWe will be joined by other BUFA workers and any CYC members who would like to come along and enjoy some food and drinks.\nPlease can you let me know if you will be able to support Mark and his team with the above in return to his kind sponsorship to our club Sonatas asap so that we can then select boats and teams before the day.\nAlso it is very important for everyone to let Jacqui or myself know if you wish to attend the BBQ for catering numbers. Thank you.\nMark Wilby (07803336960)\n\nSonata Club Captain
URL:https://colneyachtclub.org.uk/event/bufa-composites-sonata-mini-series-championship-22nd-july/
CATEGORIES:Club Races,Rally,Social Events
ATTACH;FMTTYPE=image/jpeg:https://colneyachtclub.org.uk/wp-content/uploads/2023/03/Sonata-Racing-scaled.jpg
END:VEVENT
BEGIN:VEVENT
DTSTART;TZID=Europe/London:20240721T130000
DTEND;TZID=Europe/London:20240721T150000
DTSTAMP:20260419T210534
CREATED:20240623T104232Z
LAST-MODIFIED:20240623T104244Z
UID:5085-1721566800-1721574000@colneyachtclub.org.uk
SUMMARY:BOD Series
DESCRIPTION:
URL:https://colneyachtclub.org.uk/event/bod-series/
CATEGORIES:Club Races
ATTACH;FMTTYPE=image/webp:https://colneyachtclub.org.uk/wp-content/uploads/2023/11/BOD1.webp
END:VEVENT
BEGIN:VEVENT
DTSTART;TZID=Europe/London:20240721T100000
DTEND;TZID=Europe/London:20240721T170000
DTSTAMP:20260419T210534
CREATED:20240717T093102Z
LAST-MODIFIED:20240717T093102Z
UID:5152-1721556000-1721581200@colneyachtclub.org.uk
SUMMARY:Brightlingsea Coastal Rowing Club Day
DESCRIPTION:
URL:https://colneyachtclub.org.uk/event/brightlingsea-coastal-rowing-club-day/
CATEGORIES:Social Events
END:VEVENT
BEGIN:VEVENT
DTSTART;TZID=Europe/London:20240720T100000
DTEND;TZID=Europe/London:20240720T150000
DTSTAMP:20260419T210534
CREATED:20240623T103954Z
LAST-MODIFIED:20240623T103954Z
UID:5083-1721469600-1721487600@colneyachtclub.org.uk
SUMMARY:Summer Series Race 1
DESCRIPTION:
URL:https://colneyachtclub.org.uk/event/summer-series-race-1/
END:VEVENT
BEGIN:VEVENT
DTSTART;TZID=Europe/London:20240720T090000
DTEND;TZID=Europe/London:20240720T110000
DTSTAMP:20260419T210534
CREATED:20240717T093356Z
LAST-MODIFIED:20240717T093523Z
UID:5155-1721466000-1721473200@colneyachtclub.org.uk
SUMMARY:All You Can Eat Breakfast!
DESCRIPTION:Starting Saturday 4th May 9am – 11am\, then every Saturday throughout the summer. Join us for an all-you-can-eat breakfast buffet. Cost £8.50.
URL:https://colneyachtclub.org.uk/event/all-you-can-eat-breakfast-2/
END:VEVENT
BEGIN:VEVENT
DTSTART;VALUE=DATE:20240720
DTEND;VALUE=DATE:20240721
DTSTAMP:20260419T210534
CREATED:20240124T111932Z
LAST-MODIFIED:20240302T154611Z
UID:4679-1721433600-1721519999@colneyachtclub.org.uk
SUMMARY:Mersea Sonata Series
DESCRIPTION:
URL:https://colneyachtclub.org.uk/event/mersea-sonata-series-3/
CATEGORIES:Regatta
ATTACH;FMTTYPE=image/jpeg:https://colneyachtclub.org.uk/wp-content/uploads/2023/03/Sonata-Racing-scaled.jpg
END:VEVENT
BEGIN:VEVENT
DTSTART;TZID=Europe/London:20240719T183000
DTEND;TZID=Europe/London:20240719T230000
DTSTAMP:20260419T210534
CREATED:20240717T092540Z
LAST-MODIFIED:20240717T092613Z
UID:5148-1721413800-1721430000@colneyachtclub.org.uk
SUMMARY:Quiz Night
DESCRIPTION:The Golden Question is rolled over and now stands at £170. \nThe next Quiz Night is this Friday 19th July. \nSausage and Mash £9.95 at 6.30 pm ( please book by Tuesday pm) \nTo book a table call 07863 565068 or email  waterside@colneyachtclub.org.uk
URL:https://colneyachtclub.org.uk/event/quiz-night-5/
CATEGORIES:Social Events
END:VEVENT
BEGIN:VEVENT
DTSTART;TZID=Europe/London:20240411T091500
DTEND;TZID=Europe/London:20240411T130000
DTSTAMP:20260419T210534
CREATED:20240327T165207Z
LAST-MODIFIED:20240327T165759Z
UID:4916-1712826900-1712840400@colneyachtclub.org.uk
SUMMARY:WoW 2024 Sailing Programme
DESCRIPTION:Every other Thursday starting on 11th April 2024 to 17th October 20245.  From 0915 to 1300\, followed by lunch at the clubhouse. 6th June is a cruising day.
URL:https://colneyachtclub.org.uk/event/women-on-the-water-2024-sailing-programme/
LOCATION:Colne Yacht Club
CATEGORIES:Training,WOW
ATTACH;FMTTYPE=image/jpeg:https://colneyachtclub.org.uk/wp-content/uploads/2022/02/SonataHeats2017_100.jpg
END:VEVENT
END:VCALENDAR