BEGIN:VCALENDAR
VERSION:2.0
PRODID:-//Colne Yacht Club - ECPv6.15.17.1//NONSGML v1.0//EN
CALSCALE:GREGORIAN
METHOD:PUBLISH
X-WR-CALNAME:Colne Yacht Club
X-ORIGINAL-URL:https://colneyachtclub.org.uk
X-WR-CALDESC:Events for Colne Yacht Club
REFRESH-INTERVAL;VALUE=DURATION:PT1H
X-Robots-Tag:noindex
X-PUBLISHED-TTL:PT1H
BEGIN:VTIMEZONE
TZID:Europe/London
BEGIN:DAYLIGHT
TZOFFSETFROM:+0000
TZOFFSETTO:+0100
TZNAME:BST
DTSTART:20230326T010000
END:DAYLIGHT
BEGIN:STANDARD
TZOFFSETFROM:+0100
TZOFFSETTO:+0000
TZNAME:GMT
DTSTART:20231029T010000
END:STANDARD
BEGIN:DAYLIGHT
TZOFFSETFROM:+0000
TZOFFSETTO:+0100
TZNAME:BST
DTSTART:20240331T010000
END:DAYLIGHT
BEGIN:STANDARD
TZOFFSETFROM:+0100
TZOFFSETTO:+0000
TZNAME:GMT
DTSTART:20241027T010000
END:STANDARD
BEGIN:DAYLIGHT
TZOFFSETFROM:+0000
TZOFFSETTO:+0100
TZNAME:BST
DTSTART:20250330T010000
END:DAYLIGHT
BEGIN:STANDARD
TZOFFSETFROM:+0100
TZOFFSETTO:+0000
TZNAME:GMT
DTSTART:20251026T010000
END:STANDARD
END:VTIMEZONE
BEGIN:VEVENT
DTSTART;TZID=Europe/London:20241218T190000
DTEND;TZID=Europe/London:20241218T210000
DTSTAMP:20260419T151235
CREATED:20241107T122738Z
LAST-MODIFIED:20241107T122739Z
UID:5453-1734548400-1734555600@colneyachtclub.org.uk
SUMMARY:Christmas Table Decoration Workshop
DESCRIPTION:Join us for a fun creative evening making a beautiful table decoration for your festive\nday led by Donna from Flo’s Flowers enjoy a welcome glass of mulled wine &\nMince pies \n£25
URL:https://colneyachtclub.org.uk/event/christmas-table-decoration-workshop/
CATEGORIES:Social Events
END:VEVENT
BEGIN:VEVENT
DTSTART;TZID=Europe/London:20241212T103000
DTEND;TZID=Europe/London:20241212T143000
DTSTAMP:20260419T151235
CREATED:20241210T102518Z
LAST-MODIFIED:20241210T102643Z
UID:5477-1733999400-1734013800@colneyachtclub.org.uk
SUMMARY:WoW Christmas Lunch
DESCRIPTION:Our WOW Christmas gathering is on Thursday\, December 12th\, starting at 10:30 am. \nCome and join us for coffee and an interesting talk on sailing Smacks and Barges by Jane Harman and Mandy. Afterwards enjoy a tasty sharing lunch when Alix will keep the fun going with a quiz!  Please let us know if you can join. \nPam has kindly offered to collate the lunch offerings so we won’t just be eating sausage rolls! \nBest wishes Teresa 🎅🌲
URL:https://colneyachtclub.org.uk/event/wow-christmas-lunch/
CATEGORIES:Social Events,WOW
END:VEVENT
BEGIN:VEVENT
DTSTART;TZID=Europe/London:20241207T083000
DTEND;TZID=Europe/London:20241207T113000
DTSTAMP:20260419T151235
CREATED:20241107T122149Z
LAST-MODIFIED:20241107T122149Z
UID:5449-1733560200-1733571000@colneyachtclub.org.uk
SUMMARY:Breakfast with Santa
DESCRIPTION:BREAKFAST WITH SANTA\nSATURDAY 7™ DECEMBER\n8.30AM – 11.30AM \nCOME AND HAVE BREAKFAST WITH FATHER CHRISTMAS AT THE COLNE YACHT CLUB BRIGHTLINGSEA\nCHILD £5 ADULT £10 including  a BUFFET BREAKFAST\nAN EXTRA £5 TO SEE SANTA IN HIS GROTTO and RECEIVE A PRESENT\nBOOK NOW TO AVOID DISAPPOINTMENT\nCONTACT TRACEY OR JACQUI ON 01206 302594\nPLUS\, A MINI-XMAS MARKET \nBOOK YOUR MARKET TABLE\nNOW FOR £10
URL:https://colneyachtclub.org.uk/event/breakfast-with-santa/
CATEGORIES:Social Events
END:VEVENT
BEGIN:VEVENT
DTSTART;VALUE=DATE:20241207
DTEND;VALUE=DATE:20241208
DTSTAMP:20260419T151235
CREATED:20241107T122451Z
LAST-MODIFIED:20241107T122451Z
UID:5451-1733529600-1733615999@colneyachtclub.org.uk
SUMMARY:Annual CYC/BSC Cadet Prize Giving
DESCRIPTION:Will be held at Brightlingsea Sailing Club this year. Details on Club Facebook Page and Cadet Whatsapp.
URL:https://colneyachtclub.org.uk/event/annual-cyc-bsc-cadet-prize-giving/
CATEGORIES:Social Events
END:VEVENT
BEGIN:VEVENT
DTSTART;TZID=Europe/London:20241129T183000
DTEND;TZID=Europe/London:20241129T230000
DTSTAMP:20260419T151235
CREATED:20241107T121846Z
LAST-MODIFIED:20241107T122511Z
UID:5447-1732905000-1732921200@colneyachtclub.org.uk
SUMMARY:Christmas Quiz
DESCRIPTION:The Final Quiz night of the year will be 7.30pm.  on Friday 29th November\, the Golden Question must be won and it stands at £237. Book your table and food with Jennie on 07863 565068 food will be available from 6.30 pm.
URL:https://colneyachtclub.org.uk/event/christmas-quiz/
CATEGORIES:Social Events
END:VEVENT
BEGIN:VEVENT
DTSTART;TZID=Europe/London:20241127T190000
DTEND;TZID=Europe/London:20241127T223000
DTSTAMP:20260419T151235
CREATED:20241107T121422Z
LAST-MODIFIED:20241107T121422Z
UID:5443-1732734000-1732746600@colneyachtclub.org.uk
SUMMARY:Sonata Club Night
DESCRIPTION:
URL:https://colneyachtclub.org.uk/event/sonata-club-night-3/
CATEGORIES:Social Events
ATTACH;FMTTYPE=image/jpeg:https://colneyachtclub.org.uk/wp-content/uploads/2024/03/Sonatas-e1713272145934.jpg
END:VEVENT
BEGIN:VEVENT
DTSTART;TZID=Europe/London:20241124T120000
DTEND;TZID=Europe/London:20241124T150000
DTSTAMP:20260419T151235
CREATED:20241107T121725Z
LAST-MODIFIED:20241107T121725Z
UID:5445-1732449600-1732460400@colneyachtclub.org.uk
SUMMARY:Sunday Lunch
DESCRIPTION:
URL:https://colneyachtclub.org.uk/event/sunday-lunch-3/
CATEGORIES:Social Events
END:VEVENT
BEGIN:VEVENT
DTSTART;TZID=Europe/London:20241117T170000
DTEND;TZID=Europe/London:20241117T183000
DTSTAMP:20260419T151235
CREATED:20241022T123523Z
LAST-MODIFIED:20241022T123523Z
UID:5433-1731862800-1731868200@colneyachtclub.org.uk
SUMMARY:Laying Up Service
DESCRIPTION:
URL:https://colneyachtclub.org.uk/event/laying-up-service/
LOCATION:St James’ Church\, High Street\, Brightlingsea
CATEGORIES:Social Events
END:VEVENT
BEGIN:VEVENT
DTSTART;TZID=Europe/London:20241116T190000
DTEND;TZID=Europe/London:20241116T230000
DTSTAMP:20260419T151235
CREATED:20240909T152724Z
LAST-MODIFIED:20241022T123146Z
UID:5303-1731783600-1731798000@colneyachtclub.org.uk
SUMMARY:Laying Up Supper
DESCRIPTION:
URL:https://colneyachtclub.org.uk/event/laying-up-supper/
CATEGORIES:Social Events
END:VEVENT
BEGIN:VEVENT
DTSTART;TZID=Europe/London:20241027T120000
DTEND;TZID=Europe/London:20241027T150000
DTSTAMP:20260419T151235
CREATED:20241022T091618Z
LAST-MODIFIED:20241022T123212Z
UID:5424-1730030400-1730041200@colneyachtclub.org.uk
SUMMARY:Sunday Lunch
DESCRIPTION:
URL:https://colneyachtclub.org.uk/event/sunday-lunch-2/
CATEGORIES:Social Events
END:VEVENT
BEGIN:VEVENT
DTSTART;TZID=Europe/London:20241026T200000
DTEND;TZID=Europe/London:20241026T230000
DTSTAMP:20260419T151235
CREATED:20241022T092209Z
LAST-MODIFIED:20241022T123233Z
UID:5426-1729972800-1729983600@colneyachtclub.org.uk
SUMMARY:Tom Lewis in Concert
DESCRIPTION:TomLewisPoster
URL:https://colneyachtclub.org.uk/event/tom-lewis-in-concert/
CATEGORIES:Social Events
END:VEVENT
BEGIN:VEVENT
DTSTART;TZID=Europe/London:20241025T190000
DTEND;TZID=Europe/London:20241025T230000
DTSTAMP:20260419T151235
CREATED:20241022T091535Z
LAST-MODIFIED:20241022T123255Z
UID:5422-1729882800-1729897200@colneyachtclub.org.uk
SUMMARY:Quiz Night
DESCRIPTION:
URL:https://colneyachtclub.org.uk/event/quiz-night-7/
LOCATION:Colne Yacht Club
CATEGORIES:Social Events
END:VEVENT
BEGIN:VEVENT
DTSTART;TZID=Europe/London:20241023T190000
DTEND;TZID=Europe/London:20241023T210000
DTSTAMP:20260419T151235
CREATED:20240926T111421Z
LAST-MODIFIED:20240926T111421Z
UID:5333-1729710000-1729717200@colneyachtclub.org.uk
SUMMARY:Sonata Club Night
DESCRIPTION:
URL:https://colneyachtclub.org.uk/event/sonata-club-night-2/
CATEGORIES:Social Events
END:VEVENT
BEGIN:VEVENT
DTSTART;VALUE=DATE:20241020
DTEND;VALUE=DATE:20241021
DTSTAMP:20260419T151235
CREATED:20240908T172325Z
LAST-MODIFIED:20240908T172325Z
UID:5283-1729382400-1729468799@colneyachtclub.org.uk
SUMMARY:Sundowners to Wivenhoe
DESCRIPTION:
URL:https://colneyachtclub.org.uk/event/sundowners-to-wivenhoe/
CATEGORIES:Rally
END:VEVENT
BEGIN:VEVENT
DTSTART;TZID=Europe/London:20241019T113000
DTEND;TZID=Europe/London:20241019T153000
DTSTAMP:20260419T151235
CREATED:20240908T172218Z
LAST-MODIFIED:20240908T172218Z
UID:5281-1729337400-1729351800@colneyachtclub.org.uk
SUMMARY:Autumn 5 Race and Final Fling
DESCRIPTION:
URL:https://colneyachtclub.org.uk/event/autumn-5-race-and-final-fling/
CATEGORIES:Club Races,Social Events
END:VEVENT
BEGIN:VEVENT
DTSTART;TZID=Europe/London:20241012T090000
DTEND;TZID=Europe/London:20241012T160000
DTSTAMP:20260419T151235
CREATED:20240908T172038Z
LAST-MODIFIED:20240908T172038Z
UID:5279-1728723600-1728748800@colneyachtclub.org.uk
SUMMARY:Long Distance Race 6
DESCRIPTION:
URL:https://colneyachtclub.org.uk/event/long-distance-race-6/
CATEGORIES:Club Races
END:VEVENT
BEGIN:VEVENT
DTSTART;TZID=Europe/London:20240411T091500
DTEND;TZID=Europe/London:20240411T130000
DTSTAMP:20260419T151235
CREATED:20240327T165207Z
LAST-MODIFIED:20240327T165759Z
UID:4916-1712826900-1712840400@colneyachtclub.org.uk
SUMMARY:WoW 2024 Sailing Programme
DESCRIPTION:Every other Thursday starting on 11th April 2024 to 17th October 20245.  From 0915 to 1300\, followed by lunch at the clubhouse. 6th June is a cruising day.
URL:https://colneyachtclub.org.uk/event/women-on-the-water-2024-sailing-programme/
LOCATION:Colne Yacht Club
CATEGORIES:Training,WOW
ATTACH;FMTTYPE=image/jpeg:https://colneyachtclub.org.uk/wp-content/uploads/2022/02/SonataHeats2017_100.jpg
END:VEVENT
BEGIN:VEVENT
DTSTART;TZID=Europe/London:20241005T120000
DTEND;TZID=Europe/London:20241005T160000
DTSTAMP:20260419T151235
CREATED:20240908T171914Z
LAST-MODIFIED:20240908T171914Z
UID:5277-1728129600-1728144000@colneyachtclub.org.uk
SUMMARY:Autumn 4 Race
DESCRIPTION:
URL:https://colneyachtclub.org.uk/event/autumn-4-race/
CATEGORIES:Club Races
END:VEVENT
BEGIN:VEVENT
DTSTART;TZID=Europe/London:20241001T200000
DTEND;TZID=Europe/London:20241001T220000
DTSTAMP:20260419T151235
CREATED:20240908T174820Z
LAST-MODIFIED:20240908T175134Z
UID:5291-1727812800-1727820000@colneyachtclub.org.uk
SUMMARY:Trinity House Talk - British Legion
DESCRIPTION:A Brightlingsea Harbour Commissioner and  Younger Brother of Trinity House will give a talk to the Royal Naval Association on the work of Trinity House.   This will take place in the Royal British Legion on Tuesday 1 October starting at 2000 after the usual RNA monthly meeting. \nMembers of the Colne Yacht are inviteid  to join the RNA for this interesting talk\, of special interest to mariners.  To register your interest pleas contact Colin Watkins at cffwatkins@gmail.com.  For some background information\, see the flyer here.
URL:https://colneyachtclub.org.uk/event/trinity-house-talk-british-legion/
CATEGORIES:Social Events
ATTACH;FMTTYPE=image/png:https://colneyachtclub.org.uk/wp-content/uploads/2024/09/TrinityHouseLogo.png
END:VEVENT
BEGIN:VEVENT
DTSTART;TZID=Europe/London:20240929T130000
DTEND;TZID=Europe/London:20240929T170000
DTSTAMP:20260419T151235
CREATED:20240908T171759Z
LAST-MODIFIED:20240908T171759Z
UID:5275-1727614800-1727629200@colneyachtclub.org.uk
SUMMARY:BOD Lunch and Prizegiving
DESCRIPTION:
URL:https://colneyachtclub.org.uk/event/bod-lunch-and-prizegiving/
CATEGORIES:Club Races,Social Events
END:VEVENT
BEGIN:VEVENT
DTSTART;TZID=Europe/London:20240929T103000
DTEND;TZID=Europe/London:20240929T130000
DTSTAMP:20260419T151235
CREATED:20240908T171706Z
LAST-MODIFIED:20240908T171706Z
UID:5273-1727605800-1727614800@colneyachtclub.org.uk
SUMMARY:Final Fling - BOD Series
DESCRIPTION:
URL:https://colneyachtclub.org.uk/event/final-fling-bod-series/
CATEGORIES:Club Races
END:VEVENT
BEGIN:VEVENT
DTSTART;TZID=Europe/London:20240928T090000
DTEND;TZID=Europe/London:20240928T140000
DTSTAMP:20260419T151235
CREATED:20240908T171516Z
LAST-MODIFIED:20240908T171516Z
UID:5271-1727514000-1727532000@colneyachtclub.org.uk
SUMMARY:Autumn 3 Race
DESCRIPTION:
URL:https://colneyachtclub.org.uk/event/autumn-3-race/
END:VEVENT
BEGIN:VEVENT
DTSTART;TZID=Europe/London:20240927T190000
DTEND;TZID=Europe/London:20240927T230000
DTSTAMP:20260419T151235
CREATED:20240909T152614Z
LAST-MODIFIED:20240909T152614Z
UID:5301-1727463600-1727478000@colneyachtclub.org.uk
SUMMARY:Quiz Night
DESCRIPTION:
URL:https://colneyachtclub.org.uk/event/quiz-night-6/
CATEGORIES:Social Events
END:VEVENT
BEGIN:VEVENT
DTSTART;TZID=Europe/London:20240411T091500
DTEND;TZID=Europe/London:20240411T130000
DTSTAMP:20260419T151235
CREATED:20240327T165207Z
LAST-MODIFIED:20240327T165759Z
UID:4916-1712826900-1712840400@colneyachtclub.org.uk
SUMMARY:WoW 2024 Sailing Programme
DESCRIPTION:Every other Thursday starting on 11th April 2024 to 17th October 20245.  From 0915 to 1300\, followed by lunch at the clubhouse. 6th June is a cruising day.
URL:https://colneyachtclub.org.uk/event/women-on-the-water-2024-sailing-programme/
LOCATION:Colne Yacht Club
CATEGORIES:Training,WOW
ATTACH;FMTTYPE=image/jpeg:https://colneyachtclub.org.uk/wp-content/uploads/2022/02/SonataHeats2017_100.jpg
END:VEVENT
BEGIN:VEVENT
DTSTART;TZID=Europe/London:20240925T190000
DTEND;TZID=Europe/London:20240925T210000
DTSTAMP:20260419T151235
CREATED:20240926T103229Z
LAST-MODIFIED:20240926T103229Z
UID:5323-1727290800-1727298000@colneyachtclub.org.uk
SUMMARY:Sonata Club Night
DESCRIPTION:
URL:https://colneyachtclub.org.uk/event/sonata-club-night/
CATEGORIES:Social Events
END:VEVENT
BEGIN:VEVENT
DTSTART;TZID=Europe/London:20240922T123000
DTEND;TZID=Europe/London:20240922T153000
DTSTAMP:20260419T151235
CREATED:20240908T172752Z
LAST-MODIFIED:20240908T172752Z
UID:5287-1727008200-1727019000@colneyachtclub.org.uk
SUMMARY:Sunday Lunch
DESCRIPTION:
URL:https://colneyachtclub.org.uk/event/sunday-lunch/
CATEGORIES:Social Events
END:VEVENT
BEGIN:VEVENT
DTSTART;TZID=Europe/London:20240921T110000
DTEND;TZID=Europe/London:20240921T150000
DTSTAMP:20260419T151235
CREATED:20240908T171411Z
LAST-MODIFIED:20240908T171411Z
UID:5269-1726916400-1726930800@colneyachtclub.org.uk
SUMMARY:Autumn 2 Race
DESCRIPTION:
URL:https://colneyachtclub.org.uk/event/autumn-2-race/
CATEGORIES:Club Races
END:VEVENT
BEGIN:VEVENT
DTSTART;TZID=Europe/London:20240920T190000
DTEND;TZID=Europe/London:20240920T230000
DTSTAMP:20260419T151235
CREATED:20240908T172657Z
LAST-MODIFIED:20240909T152439Z
UID:5285-1726858800-1726873200@colneyachtclub.org.uk
SUMMARY:Traing Centre Graduation Dinner
DESCRIPTION:Friday 20th September Training Centre Graduate’s Presentation Dinner for both Keel Boat and Power Boat Graduates. Join us  7 for  7:30pm – everyone welcome \nMenu \nMediterranean Chicken\, with Roasted Crushed new potatoes \nor \nVegetarian option –  Stuffed Peppers\, \n——- \nCheesecake \n——- \n£16 for 2 courses £12 for 1 course. \nThe Graduates will have completed one or more of the following courses: \nRYA Level 1\, 2 and 3 Sailing\, RYA Powerboat Training Level 2 and RYA Sailing with  Spinnakers. Many graduate are now full members of the  Club or are potential new members. \nThis function is open to all Club members who will be welcome to help celebrate and encourage the Graduates. Book with Jennie on 07733015983 or on colneyctraining@gmail.com
URL:https://colneyachtclub.org.uk/event/traing-centre-graduation-dinner/
CATEGORIES:Social Events,Training
END:VEVENT
BEGIN:VEVENT
DTSTART;TZID=Europe/London:20240914T100000
DTEND;TZID=Europe/London:20240914T170000
DTSTAMP:20260419T151235
CREATED:20240908T171110Z
LAST-MODIFIED:20240908T171110Z
UID:5267-1726308000-1726333200@colneyachtclub.org.uk
SUMMARY:Long Distance Race 5
DESCRIPTION:
URL:https://colneyachtclub.org.uk/event/long-distance-race-5/
CATEGORIES:Club Races
END:VEVENT
BEGIN:VEVENT
DTSTART;TZID=Europe/London:20240411T091500
DTEND;TZID=Europe/London:20240411T130000
DTSTAMP:20260419T151235
CREATED:20240327T165207Z
LAST-MODIFIED:20240327T165759Z
UID:4916-1712826900-1712840400@colneyachtclub.org.uk
SUMMARY:WoW 2024 Sailing Programme
DESCRIPTION:Every other Thursday starting on 11th April 2024 to 17th October 20245.  From 0915 to 1300\, followed by lunch at the clubhouse. 6th June is a cruising day.
URL:https://colneyachtclub.org.uk/event/women-on-the-water-2024-sailing-programme/
LOCATION:Colne Yacht Club
CATEGORIES:Training,WOW
ATTACH;FMTTYPE=image/jpeg:https://colneyachtclub.org.uk/wp-content/uploads/2022/02/SonataHeats2017_100.jpg
END:VEVENT
END:VCALENDAR