BEGIN:VCALENDAR
VERSION:2.0
PRODID:-//Colne Yacht Club - ECPv6.15.17.1//NONSGML v1.0//EN
CALSCALE:GREGORIAN
METHOD:PUBLISH
X-WR-CALNAME:Colne Yacht Club
X-ORIGINAL-URL:https://colneyachtclub.org.uk
X-WR-CALDESC:Events for Colne Yacht Club
REFRESH-INTERVAL;VALUE=DURATION:PT1H
X-Robots-Tag:noindex
X-PUBLISHED-TTL:PT1H
BEGIN:VTIMEZONE
TZID:Europe/London
BEGIN:DAYLIGHT
TZOFFSETFROM:+0000
TZOFFSETTO:+0100
TZNAME:BST
DTSTART:20230326T010000
END:DAYLIGHT
BEGIN:STANDARD
TZOFFSETFROM:+0100
TZOFFSETTO:+0000
TZNAME:GMT
DTSTART:20231029T010000
END:STANDARD
BEGIN:DAYLIGHT
TZOFFSETFROM:+0000
TZOFFSETTO:+0100
TZNAME:BST
DTSTART:20240331T010000
END:DAYLIGHT
BEGIN:STANDARD
TZOFFSETFROM:+0100
TZOFFSETTO:+0000
TZNAME:GMT
DTSTART:20241027T010000
END:STANDARD
BEGIN:DAYLIGHT
TZOFFSETFROM:+0000
TZOFFSETTO:+0100
TZNAME:BST
DTSTART:20250330T010000
END:DAYLIGHT
BEGIN:STANDARD
TZOFFSETFROM:+0100
TZOFFSETTO:+0000
TZNAME:GMT
DTSTART:20251026T010000
END:STANDARD
BEGIN:DAYLIGHT
TZOFFSETFROM:+0000
TZOFFSETTO:+0100
TZNAME:BST
DTSTART:20260329T010000
END:DAYLIGHT
BEGIN:STANDARD
TZOFFSETFROM:+0100
TZOFFSETTO:+0000
TZNAME:GMT
DTSTART:20261025T010000
END:STANDARD
END:VTIMEZONE
BEGIN:VEVENT
DTSTART;TZID=Europe/London:20250322T190000
DTEND;TZID=Europe/London:20250322T230000
DTSTAMP:20260419T135121
CREATED:20250225T175236Z
LAST-MODIFIED:20250225T175308Z
UID:5700-1742670000-1742684400@colneyachtclub.org.uk
SUMMARY:Fitting Out Supper
DESCRIPTION:Details to follow…
URL:https://colneyachtclub.org.uk/event/fitting-out-supper-3/
CATEGORIES:Social Events
END:VEVENT
BEGIN:VEVENT
DTSTART;TZID=Europe/London:20250319T190000
DTEND;TZID=Europe/London:20250319T230000
DTSTAMP:20260419T135121
CREATED:20250314T110344Z
LAST-MODIFIED:20250314T110344Z
UID:5737-1742410800-1742425200@colneyachtclub.org.uk
SUMMARY:CYC Volunteers' Evening
DESCRIPTION:To celebrate the amazing contribution that our team of volunteers make to the life and soul of the club!
URL:https://colneyachtclub.org.uk/event/cyc-volunteers-evening/
CATEGORIES:Social Events,Volunteers
ATTACH;FMTTYPE=image/jpeg:https://colneyachtclub.org.uk/wp-content/uploads/2025/03/Volunteers.jpg
END:VEVENT
BEGIN:VEVENT
DTSTART;TZID=Europe/London:20250316T110000
DTEND;TZID=Europe/London:20250316T130000
DTSTAMP:20260419T135121
CREATED:20250225T175058Z
LAST-MODIFIED:20250225T175058Z
UID:5698-1742122800-1742130000@colneyachtclub.org.uk
SUMMARY:Sonata Class Meeting
DESCRIPTION:To discuss this year’s racing/events including details of the Eastern Championships being held locally here in Brightlingsea and the Mid-Week League/Weekend Club Racing. \nPlease note on this same day that Brightlingsea Coastal Rowing Club will be hosting their last race of the Harkers Yard Winter Series League so Tea\, Coffee and Cake will be on sale at the club with a raffle for a hamper taking place too (for the charity Brave Futures which gives specialist support to children) \nLooking forward to seeing you all on the water soon\, \nMark Wilby \nCYC Sonata Club Captain
URL:https://colneyachtclub.org.uk/event/sonata-class-meeting/
CATEGORIES:Club Management,Regatta,Social Events
END:VEVENT
BEGIN:VEVENT
DTSTART;TZID=Europe/London:20250315T110000
DTEND;TZID=Europe/London:20250315T123000
DTSTAMP:20260419T135121
CREATED:20250115T140614Z
LAST-MODIFIED:20250228T171232Z
UID:5534-1742036400-1742041800@colneyachtclub.org.uk
SUMMARY:Colne Yacht Club AGM
DESCRIPTION:Followed by a pie\, a pint and plenty of Rugby on the big screen!
URL:https://colneyachtclub.org.uk/event/colne-yacht-club-agm/
CATEGORIES:Club Management,Social Events
END:VEVENT
BEGIN:VEVENT
DTSTART;TZID=Europe/London:20250314T190000
DTEND;TZID=Europe/London:20250314T213000
DTSTAMP:20260419T135121
CREATED:20250225T174910Z
LAST-MODIFIED:20250225T174910Z
UID:5695-1741978800-1741987800@colneyachtclub.org.uk
SUMMARY:1979 Fastnet Disaster
DESCRIPTION:Peter Coupland and Colin Watkins talk about the disasterous race…
URL:https://colneyachtclub.org.uk/event/1979-fastnet-disaster/
CATEGORIES:Social Events
END:VEVENT
BEGIN:VEVENT
DTSTART;VALUE=DATE:20250308
DTEND;VALUE=DATE:20250309
DTSTAMP:20260419T135121
CREATED:20250115T140457Z
LAST-MODIFIED:20250115T140457Z
UID:5531-1741392000-1741478399@colneyachtclub.org.uk
SUMMARY:International Women's Day
DESCRIPTION:
URL:https://colneyachtclub.org.uk/event/international-womens-day-2/
CATEGORIES:Social Events
END:VEVENT
BEGIN:VEVENT
DTSTART;TZID=Europe/London:20250301T190000
DTEND;TZID=Europe/London:20250301T230000
DTSTAMP:20260419T135121
CREATED:20250115T135942Z
LAST-MODIFIED:20250115T135942Z
UID:5529-1740855600-1740870000@colneyachtclub.org.uk
SUMMARY:Cinque Port Liberty Wine Tasting - Call my Bluff
DESCRIPTION:
URL:https://colneyachtclub.org.uk/event/cinque-port-liberty-wine-tasting-call-my-bluff/
CATEGORIES:Social Events
END:VEVENT
BEGIN:VEVENT
DTSTART;TZID=Europe/London:20250228T190000
DTEND;TZID=Europe/London:20250228T230000
DTSTAMP:20260419T135121
CREATED:20250115T135750Z
LAST-MODIFIED:20250115T135750Z
UID:5527-1740769200-1740783600@colneyachtclub.org.uk
SUMMARY:Skippers and Crews Night
DESCRIPTION:
URL:https://colneyachtclub.org.uk/event/skippers-and-crews-night-2/
CATEGORIES:Social Events
END:VEVENT
BEGIN:VEVENT
DTSTART;TZID=Europe/London:20250223T120000
DTEND;TZID=Europe/London:20250223T150000
DTSTAMP:20260419T135121
CREATED:20250115T135012Z
LAST-MODIFIED:20250115T135048Z
UID:5525-1740312000-1740322800@colneyachtclub.org.uk
SUMMARY:Sunday Lunch
DESCRIPTION:
URL:https://colneyachtclub.org.uk/event/sunday-lunch-4/
CATEGORIES:Social Events
END:VEVENT
BEGIN:VEVENT
DTSTART;TZID=Europe/London:20250222T180000
DTEND;TZID=Europe/London:20250222T223000
DTSTAMP:20260419T135121
CREATED:20250115T134759Z
LAST-MODIFIED:20250115T135739Z
UID:5521-1740247200-1740263400@colneyachtclub.org.uk
SUMMARY:Winter Fest Funny Farm
DESCRIPTION:The amazing Wivenhoe Funny Farm are bringing all the laughter you need this winter!😆 Come and have a laugh with us on 22nd February at the Colne Yacht Club🤪\nColne Yacht Club\, Waterside\, Brightlingsea\, CO7 0AX
URL:https://colneyachtclub.org.uk/event/winter-fest-funny-farm/
CATEGORIES:Social Events
END:VEVENT
BEGIN:VEVENT
DTSTART;TZID=Europe/London:20250221T190000
DTEND;TZID=Europe/London:20250221T230000
DTSTAMP:20260419T135121
CREATED:20250106T172854Z
LAST-MODIFIED:20250107T105155Z
UID:5502-1740164400-1740178800@colneyachtclub.org.uk
SUMMARY:Quiz Night
DESCRIPTION:
URL:https://colneyachtclub.org.uk/event/quiz-night-8/
CATEGORIES:Social Events
END:VEVENT
BEGIN:VEVENT
DTSTART;TZID=Europe/London:20250219T190000
DTEND;TZID=Europe/London:20250219T230000
DTSTAMP:20260419T135121
CREATED:20250106T172735Z
LAST-MODIFIED:20250107T110319Z
UID:5500-1739991600-1740006000@colneyachtclub.org.uk
SUMMARY:Sonatas Social Night
DESCRIPTION:
URL:https://colneyachtclub.org.uk/event/members-social-night-2/
CATEGORIES:Social Events
END:VEVENT
BEGIN:VEVENT
DTSTART;TZID=Europe/London:20250216T140000
DTEND;TZID=Europe/London:20250216T170000
DTSTAMP:20260419T135121
CREATED:20250115T133817Z
LAST-MODIFIED:20250115T133817Z
UID:5516-1739714400-1739725200@colneyachtclub.org.uk
SUMMARY:Winter Fest Acoustic Afternoon
DESCRIPTION:Come and enjoy a lovely afternoon of acoustic music with stunning views over our lovely harbour \nFresh Air\nInside Out\nFiddlers Elbow\nBroken Maps\nJack Walsh
URL:https://colneyachtclub.org.uk/event/winter-fest-acoustic-afternoon/
CATEGORIES:Social Events
END:VEVENT
BEGIN:VEVENT
DTSTART;TZID=Europe/London:20250214T190000
DTEND;TZID=Europe/London:20250214T230000
DTSTAMP:20260419T135121
CREATED:20250106T171607Z
LAST-MODIFIED:20250212T101348Z
UID:5496-1739559600-1739574000@colneyachtclub.org.uk
SUMMARY:Valentine's Steak Night
DESCRIPTION:
URL:https://colneyachtclub.org.uk/event/valentines-steak-night/
CATEGORIES:Social Events
END:VEVENT
BEGIN:VEVENT
DTSTART;TZID=Europe/London:20250125T190000
DTEND;TZID=Europe/London:20250125T230000
DTSTAMP:20260419T135121
CREATED:20250106T161817Z
LAST-MODIFIED:20250106T161817Z
UID:5486-1737831600-1737846000@colneyachtclub.org.uk
SUMMARY:Burns Night 2025
DESCRIPTION:All members (and their All members (and their guests) are invited to don their gladrags and dancing shoes to celebrate the Scottish Bard. Tickets are £32.95 each available from Tracey who will take your menu choices at the same time (see below). The timetable for the evening is:\nWelcome                  followed by the Selkirk Grace\nFirst Course           Seared Salmon with Heather Honey Dressing or Cock-a-leekie soup\nCeremonial Haggis walked in by the cook and Bob Richardson\nMain Course         Haggis\, Tatties and Neaps (veggie option available)\nPudding Course   Traditional Cranachan \nAll accompanied by a ‘wee dram’ \nAfter dinner \nAddress to the Lassies followed by Address to the Laddies\nScottish Dancing with Sue Last from 21:30\nPrice £32.95\nTickets from the CYC Office waterside@colneyachtclub.org.uk
URL:https://colneyachtclub.org.uk/event/burns-night-2025/
LOCATION:Colne Yacht Club
CATEGORIES:Social Events
END:VEVENT
BEGIN:VEVENT
DTSTART;TZID=Europe/London:20250122T190000
DTEND;TZID=Europe/London:20250122T230000
DTSTAMP:20260419T135121
CREATED:20250106T172650Z
LAST-MODIFIED:20250107T110248Z
UID:5498-1737572400-1737586800@colneyachtclub.org.uk
SUMMARY:Sonatas Social Night
DESCRIPTION:
URL:https://colneyachtclub.org.uk/event/members-social-night/
CATEGORIES:Social Events
END:VEVENT
BEGIN:VEVENT
DTSTART;TZID=Europe/London:20250116T093000
DTEND;TZID=Europe/London:20250116T130000
DTSTAMP:20260419T135121
CREATED:20250106T171354Z
LAST-MODIFIED:20250107T110409Z
UID:5492-1737019800-1737032400@colneyachtclub.org.uk
SUMMARY:WoWs Meeting
DESCRIPTION:
URL:https://colneyachtclub.org.uk/event/wows-meeting/
CATEGORIES:Social Events,WOW
END:VEVENT
BEGIN:VEVENT
DTSTART;TZID=Europe/London:20250110T190000
DTEND;TZID=Europe/London:20250110T223000
DTSTAMP:20260419T135121
CREATED:20250106T171154Z
LAST-MODIFIED:20250106T171209Z
UID:5490-1736535600-1736548200@colneyachtclub.org.uk
SUMMARY:Sundowners' Get Together
DESCRIPTION:
URL:https://colneyachtclub.org.uk/event/sundowners-get-together/
CATEGORIES:Rally,Social Events
END:VEVENT
BEGIN:VEVENT
DTSTART;TZID=Europe/London:20241222T120000
DTEND;TZID=Europe/London:20241222T160000
DTSTAMP:20260419T135121
CREATED:20241107T123018Z
LAST-MODIFIED:20241107T123018Z
UID:5457-1734868800-1734883200@colneyachtclub.org.uk
SUMMARY:CYC Christmas Lunch
DESCRIPTION:Pre- booking will be essential as this is usually a very well attended event. Christmas Lunch with all the trimmings \nBook with Tracey on waterside@colneyachtclub.org.uk
URL:https://colneyachtclub.org.uk/event/cyc-christmas-lunch/
CATEGORIES:Social Events
END:VEVENT
BEGIN:VEVENT
DTSTART;TZID=Europe/London:20241220T180000
DTEND;TZID=Europe/London:20241220T200000
DTSTAMP:20260419T135121
CREATED:20241107T122911Z
LAST-MODIFIED:20241107T122911Z
UID:5455-1734717600-1734724800@colneyachtclub.org.uk
SUMMARY:Christmas Carols on the Hard
DESCRIPTION:Join us for traditional Carols\, mulled wine and mince pies.  All welcome.
URL:https://colneyachtclub.org.uk/event/christmas-carols-on-the-hard/
LOCATION:Colne Yacht Club
CATEGORIES:Social Events
END:VEVENT
BEGIN:VEVENT
DTSTART;TZID=Europe/London:20241218T190000
DTEND;TZID=Europe/London:20241218T210000
DTSTAMP:20260419T135121
CREATED:20241107T122738Z
LAST-MODIFIED:20241107T122739Z
UID:5453-1734548400-1734555600@colneyachtclub.org.uk
SUMMARY:Christmas Table Decoration Workshop
DESCRIPTION:Join us for a fun creative evening making a beautiful table decoration for your festive\nday led by Donna from Flo’s Flowers enjoy a welcome glass of mulled wine &\nMince pies \n£25
URL:https://colneyachtclub.org.uk/event/christmas-table-decoration-workshop/
CATEGORIES:Social Events
END:VEVENT
BEGIN:VEVENT
DTSTART;TZID=Europe/London:20241212T103000
DTEND;TZID=Europe/London:20241212T143000
DTSTAMP:20260419T135121
CREATED:20241210T102518Z
LAST-MODIFIED:20241210T102643Z
UID:5477-1733999400-1734013800@colneyachtclub.org.uk
SUMMARY:WoW Christmas Lunch
DESCRIPTION:Our WOW Christmas gathering is on Thursday\, December 12th\, starting at 10:30 am. \nCome and join us for coffee and an interesting talk on sailing Smacks and Barges by Jane Harman and Mandy. Afterwards enjoy a tasty sharing lunch when Alix will keep the fun going with a quiz!  Please let us know if you can join. \nPam has kindly offered to collate the lunch offerings so we won’t just be eating sausage rolls! \nBest wishes Teresa 🎅🌲
URL:https://colneyachtclub.org.uk/event/wow-christmas-lunch/
CATEGORIES:Social Events,WOW
END:VEVENT
BEGIN:VEVENT
DTSTART;TZID=Europe/London:20241207T083000
DTEND;TZID=Europe/London:20241207T113000
DTSTAMP:20260419T135121
CREATED:20241107T122149Z
LAST-MODIFIED:20241107T122149Z
UID:5449-1733560200-1733571000@colneyachtclub.org.uk
SUMMARY:Breakfast with Santa
DESCRIPTION:BREAKFAST WITH SANTA\nSATURDAY 7™ DECEMBER\n8.30AM – 11.30AM \nCOME AND HAVE BREAKFAST WITH FATHER CHRISTMAS AT THE COLNE YACHT CLUB BRIGHTLINGSEA\nCHILD £5 ADULT £10 including  a BUFFET BREAKFAST\nAN EXTRA £5 TO SEE SANTA IN HIS GROTTO and RECEIVE A PRESENT\nBOOK NOW TO AVOID DISAPPOINTMENT\nCONTACT TRACEY OR JACQUI ON 01206 302594\nPLUS\, A MINI-XMAS MARKET \nBOOK YOUR MARKET TABLE\nNOW FOR £10
URL:https://colneyachtclub.org.uk/event/breakfast-with-santa/
CATEGORIES:Social Events
END:VEVENT
BEGIN:VEVENT
DTSTART;VALUE=DATE:20241207
DTEND;VALUE=DATE:20241208
DTSTAMP:20260419T135121
CREATED:20241107T122451Z
LAST-MODIFIED:20241107T122451Z
UID:5451-1733529600-1733615999@colneyachtclub.org.uk
SUMMARY:Annual CYC/BSC Cadet Prize Giving
DESCRIPTION:Will be held at Brightlingsea Sailing Club this year. Details on Club Facebook Page and Cadet Whatsapp.
URL:https://colneyachtclub.org.uk/event/annual-cyc-bsc-cadet-prize-giving/
CATEGORIES:Social Events
END:VEVENT
BEGIN:VEVENT
DTSTART;TZID=Europe/London:20241129T183000
DTEND;TZID=Europe/London:20241129T230000
DTSTAMP:20260419T135121
CREATED:20241107T121846Z
LAST-MODIFIED:20241107T122511Z
UID:5447-1732905000-1732921200@colneyachtclub.org.uk
SUMMARY:Christmas Quiz
DESCRIPTION:The Final Quiz night of the year will be 7.30pm.  on Friday 29th November\, the Golden Question must be won and it stands at £237. Book your table and food with Jennie on 07863 565068 food will be available from 6.30 pm.
URL:https://colneyachtclub.org.uk/event/christmas-quiz/
CATEGORIES:Social Events
END:VEVENT
BEGIN:VEVENT
DTSTART;TZID=Europe/London:20241127T190000
DTEND;TZID=Europe/London:20241127T223000
DTSTAMP:20260419T135121
CREATED:20241107T121422Z
LAST-MODIFIED:20241107T121422Z
UID:5443-1732734000-1732746600@colneyachtclub.org.uk
SUMMARY:Sonata Club Night
DESCRIPTION:
URL:https://colneyachtclub.org.uk/event/sonata-club-night-3/
CATEGORIES:Social Events
ATTACH;FMTTYPE=image/jpeg:https://colneyachtclub.org.uk/wp-content/uploads/2024/03/Sonatas-e1713272145934.jpg
END:VEVENT
BEGIN:VEVENT
DTSTART;TZID=Europe/London:20241124T120000
DTEND;TZID=Europe/London:20241124T150000
DTSTAMP:20260419T135121
CREATED:20241107T121725Z
LAST-MODIFIED:20241107T121725Z
UID:5445-1732449600-1732460400@colneyachtclub.org.uk
SUMMARY:Sunday Lunch
DESCRIPTION:
URL:https://colneyachtclub.org.uk/event/sunday-lunch-3/
CATEGORIES:Social Events
END:VEVENT
BEGIN:VEVENT
DTSTART;TZID=Europe/London:20241117T170000
DTEND;TZID=Europe/London:20241117T183000
DTSTAMP:20260419T135121
CREATED:20241022T123523Z
LAST-MODIFIED:20241022T123523Z
UID:5433-1731862800-1731868200@colneyachtclub.org.uk
SUMMARY:Laying Up Service
DESCRIPTION:
URL:https://colneyachtclub.org.uk/event/laying-up-service/
LOCATION:St James’ Church\, High Street\, Brightlingsea
CATEGORIES:Social Events
END:VEVENT
BEGIN:VEVENT
DTSTART;TZID=Europe/London:20241116T190000
DTEND;TZID=Europe/London:20241116T230000
DTSTAMP:20260419T135121
CREATED:20240909T152724Z
LAST-MODIFIED:20241022T123146Z
UID:5303-1731783600-1731798000@colneyachtclub.org.uk
SUMMARY:Laying Up Supper
DESCRIPTION:
URL:https://colneyachtclub.org.uk/event/laying-up-supper/
CATEGORIES:Social Events
END:VEVENT
BEGIN:VEVENT
DTSTART;TZID=Europe/London:20241027T120000
DTEND;TZID=Europe/London:20241027T150000
DTSTAMP:20260419T135121
CREATED:20241022T091618Z
LAST-MODIFIED:20241022T123212Z
UID:5424-1730030400-1730041200@colneyachtclub.org.uk
SUMMARY:Sunday Lunch
DESCRIPTION:
URL:https://colneyachtclub.org.uk/event/sunday-lunch-2/
CATEGORIES:Social Events
END:VEVENT
END:VCALENDAR