BEGIN:VCALENDAR
VERSION:2.0
PRODID:-//Colne Yacht Club - ECPv6.15.17.1//NONSGML v1.0//EN
CALSCALE:GREGORIAN
METHOD:PUBLISH
X-WR-CALNAME:Colne Yacht Club
X-ORIGINAL-URL:https://colneyachtclub.org.uk
X-WR-CALDESC:Events for Colne Yacht Club
REFRESH-INTERVAL;VALUE=DURATION:PT1H
X-Robots-Tag:noindex
X-PUBLISHED-TTL:PT1H
BEGIN:VTIMEZONE
TZID:Europe/London
BEGIN:DAYLIGHT
TZOFFSETFROM:+0000
TZOFFSETTO:+0100
TZNAME:BST
DTSTART:20220327T010000
END:DAYLIGHT
BEGIN:STANDARD
TZOFFSETFROM:+0100
TZOFFSETTO:+0000
TZNAME:GMT
DTSTART:20221030T010000
END:STANDARD
BEGIN:DAYLIGHT
TZOFFSETFROM:+0000
TZOFFSETTO:+0100
TZNAME:BST
DTSTART:20230326T010000
END:DAYLIGHT
BEGIN:STANDARD
TZOFFSETFROM:+0100
TZOFFSETTO:+0000
TZNAME:GMT
DTSTART:20231029T010000
END:STANDARD
BEGIN:DAYLIGHT
TZOFFSETFROM:+0000
TZOFFSETTO:+0100
TZNAME:BST
DTSTART:20240331T010000
END:DAYLIGHT
BEGIN:STANDARD
TZOFFSETFROM:+0100
TZOFFSETTO:+0000
TZNAME:GMT
DTSTART:20241027T010000
END:STANDARD
BEGIN:DAYLIGHT
TZOFFSETFROM:+0000
TZOFFSETTO:+0100
TZNAME:BST
DTSTART:20250330T010000
END:DAYLIGHT
BEGIN:STANDARD
TZOFFSETFROM:+0100
TZOFFSETTO:+0000
TZNAME:GMT
DTSTART:20251026T010000
END:STANDARD
END:VTIMEZONE
BEGIN:VEVENT
DTSTART;TZID=Europe/London:20240411T091500
DTEND;TZID=Europe/London:20240411T130000
DTSTAMP:20260422T061910
CREATED:20240327T165207Z
LAST-MODIFIED:20240327T165759Z
UID:4916-1712826900-1712840400@colneyachtclub.org.uk
SUMMARY:WoW 2024 Sailing Programme
DESCRIPTION:Every other Thursday starting on 11th April 2024 to 17th October 20245.  From 0915 to 1300\, followed by lunch at the clubhouse. 6th June is a cruising day.
URL:https://colneyachtclub.org.uk/event/women-on-the-water-2024-sailing-programme/
LOCATION:Colne Yacht Club
CATEGORIES:Training,WOW
ATTACH;FMTTYPE=image/jpeg:https://colneyachtclub.org.uk/wp-content/uploads/2022/02/SonataHeats2017_100.jpg
END:VEVENT
BEGIN:VEVENT
DTSTART;TZID=Europe/London:20240423T170000
DTEND;TZID=Europe/London:20240423T203000
DTSTAMP:20260422T061910
CREATED:20240128T190723Z
LAST-MODIFIED:20240219T165028Z
UID:4696-1713891600-1713904200@colneyachtclub.org.uk
SUMMARY:RYA Sail Training Programme A
DESCRIPTION:Keelboat sail training at CYC follows the RYA National Sailing Scheme.  The training programme is led by our volunteer keelboat instructors\, who are trained to RYA standards. Each course lasts 15-16 hours.
URL:https://colneyachtclub.org.uk/event/rya-sail-training-a/
CATEGORIES:Training
ATTACH;FMTTYPE=image/jpeg:https://colneyachtclub.org.uk/wp-content/uploads/2024/01/Keelboat.jpg
END:VEVENT
BEGIN:VEVENT
DTSTART;TZID=Europe/London:20240420T193000
DTEND;TZID=Europe/London:20240420T230000
DTSTAMP:20260422T061910
CREATED:20240314T192135Z
LAST-MODIFIED:20240314T192135Z
UID:4852-1713641400-1713654000@colneyachtclub.org.uk
SUMMARY:Curryoke Night!
DESCRIPTION:Come and join us for a fun night of Dancing\, Singing and a delicious Curry. \nAnd at the same time\, help to raise money for our Club Launch Kerry Ann. \n\n\n\n\n\n\n\n\n\nSaturday 20th April \n7:30pm \nDisco and Karaoke by Lyrix Entertainment \nTickets £20pp\, available at \nwaterside@colneyachtclub.org.uk \nPlease note that £5 from each ticket sold\, goes towards funding our Club Launch\, Kerry Ann
URL:https://colneyachtclub.org.uk/event/curryoke-night/
CATEGORIES:Social Events
END:VEVENT
BEGIN:VEVENT
DTSTART;TZID=Europe/London:20240420T100000
DTEND;TZID=Europe/London:20240420T150000
DTSTAMP:20260422T061910
CREATED:20240122T143634Z
LAST-MODIFIED:20240122T143634Z
UID:4618-1713607200-1713625200@colneyachtclub.org.uk
SUMMARY:Cock of the River 1
DESCRIPTION:
URL:https://colneyachtclub.org.uk/event/cock-of-the-river-1/
CATEGORIES:Club Races
END:VEVENT
BEGIN:VEVENT
DTSTART;VALUE=DATE:20240420
DTEND;VALUE=DATE:20240422
DTSTAMP:20260422T061910
CREATED:20240323T170736Z
LAST-MODIFIED:20240323T170753Z
UID:4889-1713571200-1713743999@colneyachtclub.org.uk
SUMMARY:PB2 Course 2
DESCRIPTION:This course is full
URL:https://colneyachtclub.org.uk/event/pb2-course-2/
CATEGORIES:Training
ATTACH;FMTTYPE=image/jpeg:https://colneyachtclub.org.uk/wp-content/uploads/2024/03/PB-training.jpg
END:VEVENT
BEGIN:VEVENT
DTSTART;TZID=Europe/London:20240413T140000
DTEND;TZID=Europe/London:20240413T170000
DTSTAMP:20260422T061910
CREATED:20240122T142952Z
LAST-MODIFIED:20240122T152644Z
UID:4616-1713016800-1713027600@colneyachtclub.org.uk
SUMMARY:Spring Series 2
DESCRIPTION:
URL:https://colneyachtclub.org.uk/event/spring-series-2-3/
CATEGORIES:Club Races
ATTACH;FMTTYPE=image/jpeg:https://colneyachtclub.org.uk/wp-content/uploads/2022/04/bff6bf6f-0981-425a-b2f9-ac4420ee628f-e1701100638520.jpg
END:VEVENT
BEGIN:VEVENT
DTSTART;VALUE=DATE:20240413
DTEND;VALUE=DATE:20240415
DTSTAMP:20260422T061910
CREATED:20240323T170647Z
LAST-MODIFIED:20240323T170647Z
UID:4886-1712966400-1713139199@colneyachtclub.org.uk
SUMMARY:PB2 Course 1
DESCRIPTION:One space left (as at 24th march 2024)
URL:https://colneyachtclub.org.uk/event/pb2-course-1/
LOCATION:Colne Yacht Club
CATEGORIES:Training
ATTACH;FMTTYPE=image/jpeg:https://colneyachtclub.org.uk/wp-content/uploads/2024/03/PB-training.jpg
END:VEVENT
BEGIN:VEVENT
DTSTART;TZID=Europe/London:20240411T091500
DTEND;TZID=Europe/London:20240411T130000
DTSTAMP:20260422T061910
CREATED:20240327T165207Z
LAST-MODIFIED:20240327T165759Z
UID:4916-1712826900-1712840400@colneyachtclub.org.uk
SUMMARY:WoW 2024 Sailing Programme
DESCRIPTION:Every other Thursday starting on 11th April 2024 to 17th October 20245.  From 0915 to 1300\, followed by lunch at the clubhouse. 6th June is a cruising day.
URL:https://colneyachtclub.org.uk/event/women-on-the-water-2024-sailing-programme/
LOCATION:Colne Yacht Club
CATEGORIES:Training,WOW
ATTACH;FMTTYPE=image/jpeg:https://colneyachtclub.org.uk/wp-content/uploads/2022/02/SonataHeats2017_100.jpg
END:VEVENT
BEGIN:VEVENT
DTSTART;TZID=Europe/London:20240406T100000
DTEND;TZID=Europe/London:20240406T170000
DTSTAMP:20260422T061910
CREATED:20240122T130855Z
LAST-MODIFIED:20240122T142249Z
UID:4609-1712397600-1712422800@colneyachtclub.org.uk
SUMMARY:Spring Series 1
DESCRIPTION:Race One
URL:https://colneyachtclub.org.uk/event/spring-series-1/
CATEGORIES:Club Races
ATTACH;FMTTYPE=image/jpeg:https://colneyachtclub.org.uk/wp-content/uploads/2022/04/bff6bf6f-0981-425a-b2f9-ac4420ee628f-e1701100638520.jpg
END:VEVENT
BEGIN:VEVENT
DTSTART;TZID=Europe/London:20240405T190000
DTEND;TZID=Europe/London:20240405T230000
DTSTAMP:20260422T061910
CREATED:20231220T153854Z
LAST-MODIFIED:20231220T172106Z
UID:4516-1712343600-1712358000@colneyachtclub.org.uk
SUMMARY:Fitting Out Supper
DESCRIPTION:
URL:https://colneyachtclub.org.uk/event/fitting-out-supper-2/
CATEGORIES:Social Events
END:VEVENT
BEGIN:VEVENT
DTSTART;TZID=Europe/London:20240331T120000
DTEND;TZID=Europe/London:20240331T160000
DTSTAMP:20260422T061910
CREATED:20240314T191618Z
LAST-MODIFIED:20240314T191834Z
UID:4849-1711886400-1711900800@colneyachtclub.org.uk
SUMMARY:Easter Sunday Lunch
DESCRIPTION:Please book early if you would like to join us for a delicious Roast on Easter Sunday.  This is expected to be a very popular event. 1st Sitting – 12 noon\,  2nd Sitting – 2pm \nAdults: 1 course £12.95  2 courses £17.95. \nYoungsters of 11 years and under 1 course £6.95 OR will be offered an Easter Egg instead of a dessert for £9.95. \nPease book by 25th March through waterside@colneyachtclub.org.uk \nor telephone our events line on 07949 146618
URL:https://colneyachtclub.org.uk/event/easter-sunday-lunch-2/
LOCATION:Colne Yacht Club
CATEGORIES:Social Events
END:VEVENT
BEGIN:VEVENT
DTSTART;VALUE=DATE:20240324
DTEND;VALUE=DATE:20240325
DTSTAMP:20260422T061910
CREATED:20240117T152821Z
LAST-MODIFIED:20240122T130431Z
UID:4601-1711238400-1711324799@colneyachtclub.org.uk
SUMMARY:First Aid Course
DESCRIPTION:We have a First Aid Course running at the Club on Sunday 24th March. There are some places available if you are interested intaking part please contact Jennie on the Training Centre email in the first instance please.\ncolneyctraining@gmail.com\nThe cost will be in the region of £65 pp for members.
URL:https://colneyachtclub.org.uk/event/first-aid-course/
CATEGORIES:Training
END:VEVENT
BEGIN:VEVENT
DTSTART;TZID=Europe/London:20240322T190000
DTEND;TZID=Europe/London:20240322T220000
DTSTAMP:20260422T061910
CREATED:20231220T153133Z
LAST-MODIFIED:20240317T152855Z
UID:4509-1711134000-1711144800@colneyachtclub.org.uk
SUMMARY:Quiz Night
DESCRIPTION:The Golden Question Pot has reached £71. \nTeams of up to 6 players. £3/ Head. \nJacqui will be making Lasagne and Salad £9.95\, for those wishing to eat beforehand. \nPlease book using the Events line 07949 146618. Deadline Monday 18th March.
URL:https://colneyachtclub.org.uk/event/quiz-night-3/
LOCATION:Colne Yacht Club
CATEGORIES:Social Events
END:VEVENT
BEGIN:VEVENT
DTSTART;TZID=Europe/London:20240316T143000
DTEND;TZID=Europe/London:20240316T223000
DTSTAMP:20260422T061910
CREATED:20240314T185406Z
LAST-MODIFIED:20240314T193536Z
UID:4837-1710599400-1710628200@colneyachtclub.org.uk
SUMMARY:Rugby\, Pie and Pint
DESCRIPTION:Next Saturday\, 16th March. After the AGM the club will be showing all. 3  6 Nations games. Members are welcome to stay to watch – there will also be Pie or Nachos and a Pint for £10. \nPlease let Jacqui know if you are planning to stay by text or message on the catering number 07949 146618 as soon as possible.
URL:https://colneyachtclub.org.uk/event/rugby-pie-and-pint/
CATEGORIES:Social Events
END:VEVENT
BEGIN:VEVENT
DTSTART;TZID=Europe/London:20240316T110000
DTEND;TZID=Europe/London:20240316T123000
DTSTAMP:20260422T061910
CREATED:20231220T150933Z
LAST-MODIFIED:20240314T193653Z
UID:4489-1710586800-1710592200@colneyachtclub.org.uk
SUMMARY:Annual General Meeting
DESCRIPTION:
URL:https://colneyachtclub.org.uk/event/annual-general-meeting/
LOCATION:Colne Yacht Club
CATEGORIES:Club Management,Training
END:VEVENT
BEGIN:VEVENT
DTSTART;TZID=Europe/London:20240314T080000
DTEND;TZID=Europe/London:20240314T170000
DTSTAMP:20260422T061910
CREATED:20240314T191215Z
LAST-MODIFIED:20240314T191215Z
UID:4847-1710403200-1710435600@colneyachtclub.org.uk
SUMMARY:Quiz Night
DESCRIPTION:The Golden Question Pot has reached £71. \nTeams of up to 6 players. £3/ Head. \nJacqui will be making Lasagne and Salad £9.95\, for those wishing to eat beforehand. \nPlease book using the Events line 07949 146618. Deadline Monday 18th March.
URL:https://colneyachtclub.org.uk/event/quiz-night-2/
ATTACH;FMTTYPE=image/jpeg:https://colneyachtclub.org.uk/wp-content/uploads/2024/01/QuizNight2024.jpg
END:VEVENT
BEGIN:VEVENT
DTSTART;VALUE=DATE:20240314
DTEND;VALUE=DATE:20240315
DTSTAMP:20260422T061910
CREATED:20231220T153446Z
LAST-MODIFIED:20240129T104442Z
UID:4514-1710374400-1710460799@colneyachtclub.org.uk
SUMMARY:Winter WoW RNLI Talk
DESCRIPTION:
URL:https://colneyachtclub.org.uk/event/winter-wow-rnli-talk/
CATEGORIES:Training,WOW
END:VEVENT
BEGIN:VEVENT
DTSTART;VALUE=DATE:20240308
DTEND;VALUE=DATE:20240309
DTSTAMP:20260422T061910
CREATED:20231220T153337Z
LAST-MODIFIED:20231220T172136Z
UID:4511-1709856000-1709942399@colneyachtclub.org.uk
SUMMARY:International Women's Day
DESCRIPTION:
URL:https://colneyachtclub.org.uk/event/international-womens-day/
CATEGORIES:Social Events
END:VEVENT
BEGIN:VEVENT
DTSTART;TZID=Europe/London:20240225T140000
DTEND;TZID=Europe/London:20240225T170000
DTSTAMP:20260422T061910
CREATED:20240117T150747Z
LAST-MODIFIED:20240122T130458Z
UID:4592-1708869600-1708880400@colneyachtclub.org.uk
SUMMARY:Winterfest at CYC
DESCRIPTION:An afternoon with Martin Newell and friends. Sunday 25th February at 2pm \nBrightlingsea Winter Fest has chosen Inclusivity as its theme for this year\, with the aim of making everyone feel welcome at the festival’s extensive and exciting array of events. \nThe count down is on for Winter Fest 2024\, which\, for the second year running\, is being held in association with Brightlingsea Literary Festival. A total of 40 events will be taking place across February and into early March\, at venues throughout Brightlingsea\, offering something for everyone. \nLeaflets about all events will be available locally and more details can be found on the website www.brightlingseawinterfest.co.uk  and on the Facebook page Brightlingsea Winterfest.
URL:https://colneyachtclub.org.uk/event/winterfest-at-cyc/
LOCATION:Colne Yacht Club
CATEGORIES:Social Events
ATTACH;FMTTYPE=image/jpeg:https://colneyachtclub.org.uk/wp-content/uploads/2024/01/Winterfest.jpg
END:VEVENT
BEGIN:VEVENT
DTSTART;TZID=Europe/London:20240216T183000
DTEND;TZID=Europe/London:20240216T223000
DTSTAMP:20260422T061910
CREATED:20231212T182807Z
LAST-MODIFIED:20240128T190216Z
UID:4486-1708108200-1708122600@colneyachtclub.org.uk
SUMMARY:Skippers' and Crews' Night
DESCRIPTION:Back by popular demand\, this is a great evening to find out who might want a crew for club events in 2024\, and who is actually available to crew this year. So put the date in your diary and come along. \nFood will be available. Meat or Veggie Pie and Mash. 1 course £9.99\, 2 courses £13.99. \nMore details to follow.
URL:https://colneyachtclub.org.uk/event/skippers-and-crews-night/
LOCATION:Colne Yacht Club
CATEGORIES:Training,Volunteers,WOW
END:VEVENT
BEGIN:VEVENT
DTSTART;TZID=Europe/London:20240215T190000
DTEND;TZID=Europe/London:20240215T210000
DTSTAMP:20260422T061910
CREATED:20231220T153040Z
LAST-MODIFIED:20240129T104502Z
UID:4507-1708023600-1708030800@colneyachtclub.org.uk
SUMMARY:Winter WoW Navigation and Sailing Theory
DESCRIPTION:
URL:https://colneyachtclub.org.uk/event/winter-wow-navigation-and-sailing-theory/
CATEGORIES:Training,WOW
END:VEVENT
BEGIN:VEVENT
DTSTART;TZID=Europe/London:20230810T093000
DTEND;TZID=Europe/London:20230810T093000
DTSTAMP:20260422T061910
CREATED:20230227T152302Z
LAST-MODIFIED:20230227T160541Z
UID:3095-1691659800-1691659800@colneyachtclub.org.uk
SUMMARY:WOW
DESCRIPTION:
URL:https://colneyachtclub.org.uk/event/wow-3/
CATEGORIES:WOW
END:VEVENT
BEGIN:VEVENT
DTSTART;TZID=Europe/London:20230805T130000
DTEND;TZID=Europe/London:20230805T130000
DTSTAMP:20260422T061910
CREATED:20230227T152231Z
LAST-MODIFIED:20230228T113654Z
UID:3085-1691240400-1691240400@colneyachtclub.org.uk
SUMMARY:Summer 3
DESCRIPTION:
URL:https://colneyachtclub.org.uk/event/summer-3/
CATEGORIES:Club Races
END:VEVENT
BEGIN:VEVENT
DTSTART;TZID=Europe/London:20230729T100000
DTEND;TZID=Europe/London:20230729T100000
DTSTAMP:20260422T061910
CREATED:20230227T153101Z
LAST-MODIFIED:20230228T113707Z
UID:3145-1690624800-1690624800@colneyachtclub.org.uk
SUMMARY:Long Distance 3
DESCRIPTION:
URL:https://colneyachtclub.org.uk/event/long-distance-3/
CATEGORIES:Club Races
END:VEVENT
BEGIN:VEVENT
DTSTART;TZID=Europe/London:20230728T190000
DTEND;TZID=Europe/London:20230728T190000
DTSTAMP:20260422T061910
CREATED:20230227T153046Z
LAST-MODIFIED:20230227T160541Z
UID:3141-1690570800-1690570800@colneyachtclub.org.uk
SUMMARY:Pursuit 5
DESCRIPTION:
URL:https://colneyachtclub.org.uk/event/pursuit-5/
CATEGORIES:Club Races,WOW
END:VEVENT
BEGIN:VEVENT
DTSTART;TZID=Europe/London:20230727T093000
DTEND;TZID=Europe/London:20230727T093000
DTSTAMP:20260422T061910
CREATED:20230227T153046Z
LAST-MODIFIED:20230227T160541Z
UID:3140-1690450200-1690450200@colneyachtclub.org.uk
SUMMARY:WOW
DESCRIPTION:
URL:https://colneyachtclub.org.uk/event/wow-11/
CATEGORIES:WOW
END:VEVENT
BEGIN:VEVENT
DTSTART;TZID=Europe/London:20230726T183000
DTEND;TZID=Europe/London:20230726T183000
DTSTAMP:20260422T061910
CREATED:20230227T153031Z
LAST-MODIFIED:20230228T113712Z
UID:3136-1690396200-1690396200@colneyachtclub.org.uk
SUMMARY:MWL 7\,8
DESCRIPTION:
URL:https://colneyachtclub.org.uk/event/mwl-78/
CATEGORIES:Club Races
END:VEVENT
BEGIN:VEVENT
DTSTART;TZID=Europe/London:20230725T190000
DTEND;TZID=Europe/London:20230725T190000
DTSTAMP:20260422T061910
CREATED:20230227T152858Z
LAST-MODIFIED:20230228T113718Z
UID:3133-1690311600-1690311600@colneyachtclub.org.uk
SUMMARY:Foxer Racing
DESCRIPTION:
URL:https://colneyachtclub.org.uk/event/foxer-racing-4/
CATEGORIES:Club Races
END:VEVENT
BEGIN:VEVENT
DTSTART;TZID=Europe/London:20230724T090000
DTEND;TZID=Europe/London:20230728T170000
DTSTAMP:20260422T061910
CREATED:20230623T061818Z
LAST-MODIFIED:20230623T061818Z
UID:3921-1690189200-1690563600@colneyachtclub.org.uk
SUMMARY:Cadet Activity Week 2023
DESCRIPTION:Cadet Activity Week is an incredibly popular event in the CYC Calendar. We still have a few places left for this year’s event which runs from 24-28 July. Please complete a booking form.
URL:https://colneyachtclub.org.uk/event/cadet-activity-week-2023/
LOCATION:Colne Yacht Club
CATEGORIES:Cadets
ATTACH;FMTTYPE=image/jpeg:https://colneyachtclub.org.uk/wp-content/uploads/2023/06/final-landscape-scaled.jpg
END:VEVENT
BEGIN:VEVENT
DTSTART;TZID=Europe/London:20230723T080000
DTEND;TZID=Europe/London:20230723T170000
DTSTAMP:20260422T061910
CREATED:20230711T141304Z
LAST-MODIFIED:20230711T141425Z
UID:4090-1690099200-1690131600@colneyachtclub.org.uk
SUMMARY:Brightlingsea Town Regatta
DESCRIPTION:Colne Yacht Club \nBrightlingsea Town Regatta \n( The Maltby Cup ) \nProgram of events on Sunday 23rd July 2023 \n14:00 hrs   Race No 1 (The Laser Trophy):- \nThis will be a full sail Pursuit Race lasting 90 minutes \nRegroup for 30 minutes \n16:00 hrs   Race No 2 (The Logan Trophy):- \nThis will be a normal handicap race with a maximum time of 90 minutes \nApprox 17:30 hrs:   finish return to moorings (1:23hrs AHW) \n18:30 hrs   Prize giving at the Club House. \nSigning on as usual at the club house:  OOD Peter Coupland \n 
URL:https://colneyachtclub.org.uk/event/brightlingsea-town-regatta/
CATEGORIES:Club Races
END:VEVENT
END:VCALENDAR