BEGIN:VCALENDAR
VERSION:2.0
PRODID:-//Colne Yacht Club - ECPv6.15.17.1//NONSGML v1.0//EN
CALSCALE:GREGORIAN
METHOD:PUBLISH
X-WR-CALNAME:Colne Yacht Club
X-ORIGINAL-URL:https://colneyachtclub.org.uk
X-WR-CALDESC:Events for Colne Yacht Club
REFRESH-INTERVAL;VALUE=DURATION:PT1H
X-Robots-Tag:noindex
X-PUBLISHED-TTL:PT1H
BEGIN:VTIMEZONE
TZID:Europe/London
BEGIN:DAYLIGHT
TZOFFSETFROM:+0000
TZOFFSETTO:+0100
TZNAME:BST
DTSTART:20240331T010000
END:DAYLIGHT
BEGIN:STANDARD
TZOFFSETFROM:+0100
TZOFFSETTO:+0000
TZNAME:GMT
DTSTART:20241027T010000
END:STANDARD
BEGIN:DAYLIGHT
TZOFFSETFROM:+0000
TZOFFSETTO:+0100
TZNAME:BST
DTSTART:20250330T010000
END:DAYLIGHT
BEGIN:STANDARD
TZOFFSETFROM:+0100
TZOFFSETTO:+0000
TZNAME:GMT
DTSTART:20251026T010000
END:STANDARD
BEGIN:DAYLIGHT
TZOFFSETFROM:+0000
TZOFFSETTO:+0100
TZNAME:BST
DTSTART:20260329T010000
END:DAYLIGHT
BEGIN:STANDARD
TZOFFSETFROM:+0100
TZOFFSETTO:+0000
TZNAME:GMT
DTSTART:20261025T010000
END:STANDARD
END:VTIMEZONE
BEGIN:VEVENT
DTSTART;TZID=Europe/London:20250720T120000
DTEND;TZID=Europe/London:20250720T150000
DTSTAMP:20260419T171758
CREATED:20250703T100245Z
LAST-MODIFIED:20250703T100245Z
UID:6056-1753012800-1753023600@colneyachtclub.org.uk
SUMMARY:Summery Sunday Lunch
DESCRIPTION:Summer Sunday Lunch with Live Music from Matt Rayner – Sunday 20th July \nA summery take on a Sunday Roast – cold beef and chicken\, pickles\, salad\, new potatoes – £9 per person\, sharing platters for 2 – £18.  Follow with a cheese or dessert platters for £10.  Food will be available from 1pm and Matt will entertain us with live music from 2pm.   Booking is necessary so please book with Tracey.
URL:https://colneyachtclub.org.uk/event/summery-sunday-lunch/
CATEGORIES:Social Events
END:VEVENT
END:VCALENDAR