BEGIN:VCALENDAR
VERSION:2.0
PRODID:-//Colne Yacht Club - ECPv6.15.17.1//NONSGML v1.0//EN
CALSCALE:GREGORIAN
METHOD:PUBLISH
X-WR-CALNAME:Colne Yacht Club
X-ORIGINAL-URL:https://colneyachtclub.org.uk
X-WR-CALDESC:Events for Colne Yacht Club
REFRESH-INTERVAL;VALUE=DURATION:PT1H
X-Robots-Tag:noindex
X-PUBLISHED-TTL:PT1H
BEGIN:VTIMEZONE
TZID:Europe/London
BEGIN:DAYLIGHT
TZOFFSETFROM:+0000
TZOFFSETTO:+0100
TZNAME:BST
DTSTART:20240331T010000
END:DAYLIGHT
BEGIN:STANDARD
TZOFFSETFROM:+0100
TZOFFSETTO:+0000
TZNAME:GMT
DTSTART:20241027T010000
END:STANDARD
BEGIN:DAYLIGHT
TZOFFSETFROM:+0000
TZOFFSETTO:+0100
TZNAME:BST
DTSTART:20250330T010000
END:DAYLIGHT
BEGIN:STANDARD
TZOFFSETFROM:+0100
TZOFFSETTO:+0000
TZNAME:GMT
DTSTART:20251026T010000
END:STANDARD
BEGIN:DAYLIGHT
TZOFFSETFROM:+0000
TZOFFSETTO:+0100
TZNAME:BST
DTSTART:20260329T010000
END:DAYLIGHT
BEGIN:STANDARD
TZOFFSETFROM:+0100
TZOFFSETTO:+0000
TZNAME:GMT
DTSTART:20261025T010000
END:STANDARD
END:VTIMEZONE
BEGIN:VEVENT
DTSTART;TZID=Europe/London:20250704T183000
DTEND;TZID=Europe/London:20250704T223000
DTSTAMP:20260419T160238
CREATED:20250703T100122Z
LAST-MODIFIED:20250703T100122Z
UID:6053-1751653800-1751668200@colneyachtclub.org.uk
SUMMARY:Mezze Night
DESCRIPTION:Following on from the successful Tapas Night – our next Friday night event is a relaxed Mezze on July 4th.  Come and enjoy a selection of small Greek dishes specially created to be shared and enjoyed with drinks. Food will be served from 6.30 – no booking s are being taken this is first come first served.  We are expecting this to be another popular night so advise getting there early
URL:https://colneyachtclub.org.uk/event/mezze-night/
CATEGORIES:Social Events
ATTACH;FMTTYPE=image/jpeg:https://colneyachtclub.org.uk/wp-content/uploads/2025/07/mezze1.jpeg
END:VEVENT
BEGIN:VEVENT
DTSTART;TZID=Europe/London:20250720T120000
DTEND;TZID=Europe/London:20250720T150000
DTSTAMP:20260419T160238
CREATED:20250703T100245Z
LAST-MODIFIED:20250703T100245Z
UID:6056-1753012800-1753023600@colneyachtclub.org.uk
SUMMARY:Summery Sunday Lunch
DESCRIPTION:Summer Sunday Lunch with Live Music from Matt Rayner – Sunday 20th July \nA summery take on a Sunday Roast – cold beef and chicken\, pickles\, salad\, new potatoes – £9 per person\, sharing platters for 2 – £18.  Follow with a cheese or dessert platters for £10.  Food will be available from 1pm and Matt will entertain us with live music from 2pm.   Booking is necessary so please book with Tracey.
URL:https://colneyachtclub.org.uk/event/summery-sunday-lunch/
CATEGORIES:Social Events
END:VEVENT
BEGIN:VEVENT
DTSTART;VALUE=DATE:20250726
DTEND;VALUE=DATE:20250728
DTSTAMP:20260419T160238
CREATED:20250703T100615Z
LAST-MODIFIED:20250703T100615Z
UID:6061-1753488000-1753660799@colneyachtclub.org.uk
SUMMARY:Brightlingsea Regatta Weekend
DESCRIPTION:
URL:https://colneyachtclub.org.uk/event/brightlingsea-regatta-weekend/
CATEGORIES:Regatta,Social Events
END:VEVENT
END:VCALENDAR