BEGIN:VCALENDAR
VERSION:2.0
PRODID:-//Colne Yacht Club - ECPv6.15.17.1//NONSGML v1.0//EN
CALSCALE:GREGORIAN
METHOD:PUBLISH
X-ORIGINAL-URL:https://colneyachtclub.org.uk
X-WR-CALDESC:Events for Colne Yacht Club
REFRESH-INTERVAL;VALUE=DURATION:PT1H
X-Robots-Tag:noindex
X-PUBLISHED-TTL:PT1H
BEGIN:VTIMEZONE
TZID:Europe/London
BEGIN:DAYLIGHT
TZOFFSETFROM:+0000
TZOFFSETTO:+0100
TZNAME:BST
DTSTART:20240331T010000
END:DAYLIGHT
BEGIN:STANDARD
TZOFFSETFROM:+0100
TZOFFSETTO:+0000
TZNAME:GMT
DTSTART:20241027T010000
END:STANDARD
BEGIN:DAYLIGHT
TZOFFSETFROM:+0000
TZOFFSETTO:+0100
TZNAME:BST
DTSTART:20250330T010000
END:DAYLIGHT
BEGIN:STANDARD
TZOFFSETFROM:+0100
TZOFFSETTO:+0000
TZNAME:GMT
DTSTART:20251026T010000
END:STANDARD
BEGIN:DAYLIGHT
TZOFFSETFROM:+0000
TZOFFSETTO:+0100
TZNAME:BST
DTSTART:20260329T010000
END:DAYLIGHT
BEGIN:STANDARD
TZOFFSETFROM:+0100
TZOFFSETTO:+0000
TZNAME:GMT
DTSTART:20261025T010000
END:STANDARD
END:VTIMEZONE
BEGIN:VEVENT
DTSTART;TZID=Europe/London:20250509T193000
DTEND;TZID=Europe/London:20250509T213000
DTSTAMP:20260419T190209
CREATED:20250422T085254Z
LAST-MODIFIED:20250422T085254Z
UID:5850-1746819000-1746826200@colneyachtclub.org.uk
SUMMARY:80 Years On - Brightlingsea in WW2
DESCRIPTION:Friday 9th May 7.30 pm.  Talk in aid of The Edward Sycamore Trust at the Colne Yacht Club. \nA talk by Margaret Stone. \nTickets £14.50\, including simple buffet supper. \nTickets can be reserved with Elizabeth Foss-Smith on 01206 305120 or email e.fosssmith@btinternet.com
URL:https://colneyachtclub.org.uk/event/80-years-on-brightlingsea-in-ww2/
CATEGORIES:Social Events
END:VEVENT
BEGIN:VEVENT
DTSTART;TZID=Europe/London:20250514T183000
DTEND;TZID=Europe/London:20250514T203000
DTSTAMP:20260419T190209
CREATED:20250422T085710Z
LAST-MODIFIED:20250422T085710Z
UID:5852-1747247400-1747254600@colneyachtclub.org.uk
SUMMARY:Brightlingsea Harbour Stakeholders' Meeting - at BSC
DESCRIPTION:Wednesday May 14th – Brightlingsea Harbour Stakeholders’ Meeting will be at 18.30 hours at Brightlingsea Sailing Club\, The meeting is open to all. Anyone with questions are invited to submit in advance at mail@brightlingseaharbour.org.
URL:https://colneyachtclub.org.uk/event/brightlingsea-harbour-stakeholders-meeting-at-bsc/
CATEGORIES:Club Management,Social Events
END:VEVENT
BEGIN:VEVENT
DTSTART;TZID=Europe/London:20250518T120000
DTEND;TZID=Europe/London:20250518T150000
DTSTAMP:20260419T190209
CREATED:20250422T085820Z
LAST-MODIFIED:20250422T085855Z
UID:5854-1747569600-1747580400@colneyachtclub.org.uk
SUMMARY:Sunday Lunch
DESCRIPTION:
URL:https://colneyachtclub.org.uk/event/sunday-lunch-5/
CATEGORIES:Social Events
END:VEVENT
BEGIN:VEVENT
DTSTART;TZID=Europe/London:20250524T190000
DTEND;TZID=Europe/London:20250524T230000
DTSTAMP:20260419T190209
CREATED:20250512T093340Z
LAST-MODIFIED:20250512T093340Z
UID:5892-1748113200-1748127600@colneyachtclub.org.uk
SUMMARY:SONATA EASTERN AREA PARTY NIGHT
DESCRIPTION:Join us on Saturday – 24th May \nChicken Chasseur \nLive music from the amazing Essex Band \nPUNCH IT LIKE CHEWIE \nTickets just £15 \nTickets are limited so please make sure you book yours  by Friday 16th May \nPlease call 01206302594 or email waterside@colneyachtclub.org.uk
URL:https://colneyachtclub.org.uk/event/sonata-eastern-area-party-night/
CATEGORIES:Regatta,Social Events
END:VEVENT
BEGIN:VEVENT
DTSTART;TZID=Europe/London:20250530T193000
DTEND;TZID=Europe/London:20250530T223000
DTSTAMP:20260419T190209
CREATED:20250512T093515Z
LAST-MODIFIED:20250512T093655Z
UID:5894-1748633400-1748644200@colneyachtclub.org.uk
SUMMARY:QUIZ NIGHT
DESCRIPTION:Friday 30th May at 7.30pm \nTHE GOLDEN QUESTION ROLL-OVER NOWSTANDS AT \n£96 \nGet your teams of 6 together and join us food at 6.30 \nPlease book your teams and food with Tracey \nAnd please don’t say you’re no good at quizzes – our team are the “No Idea 2nd X1” and we still play! \nPlease call 01206 302594 to book
URL:https://colneyachtclub.org.uk/event/quiz-night-11/
CATEGORIES:Social Events
END:VEVENT
END:VCALENDAR