BEGIN:VCALENDAR
VERSION:2.0
PRODID:-//Colne Yacht Club - ECPv6.15.17.1//NONSGML v1.0//EN
CALSCALE:GREGORIAN
METHOD:PUBLISH
X-ORIGINAL-URL:https://colneyachtclub.org.uk
X-WR-CALDESC:Events for Colne Yacht Club
REFRESH-INTERVAL;VALUE=DURATION:PT1H
X-Robots-Tag:noindex
X-PUBLISHED-TTL:PT1H
BEGIN:VTIMEZONE
TZID:Europe/London
BEGIN:DAYLIGHT
TZOFFSETFROM:+0000
TZOFFSETTO:+0100
TZNAME:BST
DTSTART:20220327T010000
END:DAYLIGHT
BEGIN:STANDARD
TZOFFSETFROM:+0100
TZOFFSETTO:+0000
TZNAME:GMT
DTSTART:20221030T010000
END:STANDARD
BEGIN:DAYLIGHT
TZOFFSETFROM:+0000
TZOFFSETTO:+0100
TZNAME:BST
DTSTART:20230326T010000
END:DAYLIGHT
BEGIN:STANDARD
TZOFFSETFROM:+0100
TZOFFSETTO:+0000
TZNAME:GMT
DTSTART:20231029T010000
END:STANDARD
BEGIN:DAYLIGHT
TZOFFSETFROM:+0000
TZOFFSETTO:+0100
TZNAME:BST
DTSTART:20240331T010000
END:DAYLIGHT
BEGIN:STANDARD
TZOFFSETFROM:+0100
TZOFFSETTO:+0000
TZNAME:GMT
DTSTART:20241027T010000
END:STANDARD
BEGIN:DAYLIGHT
TZOFFSETFROM:+0000
TZOFFSETTO:+0100
TZNAME:BST
DTSTART:20250330T010000
END:DAYLIGHT
BEGIN:STANDARD
TZOFFSETFROM:+0100
TZOFFSETTO:+0000
TZNAME:GMT
DTSTART:20251026T010000
END:STANDARD
BEGIN:DAYLIGHT
TZOFFSETFROM:+0000
TZOFFSETTO:+0100
TZNAME:BST
DTSTART:20260329T010000
END:DAYLIGHT
BEGIN:STANDARD
TZOFFSETFROM:+0100
TZOFFSETTO:+0000
TZNAME:GMT
DTSTART:20261025T010000
END:STANDARD
END:VTIMEZONE
BEGIN:VEVENT
DTSTART;TZID=Europe/London:20251206T190000
DTEND;TZID=Europe/London:20251206T230000
DTSTAMP:20260420T010140
CREATED:20251204T130408Z
LAST-MODIFIED:20251204T130408Z
UID:6290-1765047600-1765062000@colneyachtclub.org.uk
SUMMARY:Cadet Annual Christmas Party and Prizegiving
DESCRIPTION:
URL:https://colneyachtclub.org.uk/event/cadet-annual-christmas-party-and-prizegiving/
LOCATION:Colne Yacht Club
CATEGORIES:Cadets,Social Events
END:VEVENT
BEGIN:VEVENT
DTSTART;TZID=Europe/London:20250801T180000
DTEND;TZID=Europe/London:20250801T230000
DTSTAMP:20260420T010140
CREATED:20250728T165225Z
LAST-MODIFIED:20250728T165225Z
UID:6120-1754071200-1754089200@colneyachtclub.org.uk
SUMMARY:Cadet Week Party!
DESCRIPTION:All Welcome— Members\, Past & Future Cadets\nPresentation at 6pm\, Food served at 7pm\nMusic to follow from 8pm\nAdults £12\, Child £10\nTickets available from 21st July @ CYC bar\nTel: 01206 302594\nEmail: waterside@colneyachtclub.org
URL:https://colneyachtclub.org.uk/event/cadet-week-party/
LOCATION:Colne Yacht Club
CATEGORIES:Cadets,Social Events
END:VEVENT
BEGIN:VEVENT
DTSTART;VALUE=DATE:20250728
DTEND;VALUE=DATE:20250802
DTSTAMP:20260420T010140
CREATED:20250703T103345Z
LAST-MODIFIED:20250703T103345Z
UID:6073-1753660800-1754092799@colneyachtclub.org.uk
SUMMARY:Cadet Activity Week
DESCRIPTION:
URL:https://colneyachtclub.org.uk/event/cadet-activity-week-2/
CATEGORIES:Cadets,Regatta
END:VEVENT
BEGIN:VEVENT
DTSTART;TZID=Europe/London:20240802T180000
DTEND;TZID=Europe/London:20240802T220000
DTSTAMP:20260420T010140
CREATED:20240731T094418Z
LAST-MODIFIED:20240731T094418Z
UID:5235-1722621600-1722636000@colneyachtclub.org.uk
SUMMARY:Cadet Activity Week Family Celebration
DESCRIPTION:
URL:https://colneyachtclub.org.uk/event/cadet-activity-week-family-celebration/
LOCATION:Colne Yacht Club
CATEGORIES:Cadets,Social Events
END:VEVENT
BEGIN:VEVENT
DTSTART;VALUE=DATE:20240728
DTEND;VALUE=DATE:20240803
DTSTAMP:20260420T010140
CREATED:20240428T120749Z
LAST-MODIFIED:20240714T111547Z
UID:4987-1722124800-1722643199@colneyachtclub.org.uk
SUMMARY:Cadet Activity Week
DESCRIPTION:Hi all\, \nCadet Activity Week begins on Monday 29th July this year. This is the highlight of the year for cadets and a very important sailing week for the club.  For this to be a success we need help and support from parents and the members. \nPlease contact me if you are able to help with the planning and preparation.  Let me\, Tom or Dan know if you are interested in helping and I will arrange a teams meeting to discuss what needs to be done. \nAny ideas or suggestions for Cadet Activity Week are always welcome. \nSimon Hodgkinson \n07985632275
URL:https://colneyachtclub.org.uk/event/cadet-activity-week/
CATEGORIES:Cadets,Club Races,Regatta,Social Events,Volunteers
ATTACH;FMTTYPE=image/jpeg:https://colneyachtclub.org.uk/wp-content/uploads/2024/04/523DAFF8-F682-43D9-9A02-DCBB1D56A713_4_5005_c.jpeg
END:VEVENT
BEGIN:VEVENT
DTSTART;TZID=Europe/London:20240504T100000
DTEND;TZID=Europe/London:20240504T170000
DTSTAMP:20260420T010140
CREATED:20240425T162924Z
LAST-MODIFIED:20240425T162924Z
UID:4972-1714816800-1714842000@colneyachtclub.org.uk
SUMMARY:Cadets on the Water
DESCRIPTION:
URL:https://colneyachtclub.org.uk/event/cadets-on-the-water/
CATEGORIES:Cadets,Training
END:VEVENT
BEGIN:VEVENT
DTSTART;VALUE=DATE:20240427
DTEND;VALUE=DATE:20240428
DTSTAMP:20260420T010140
CREATED:20240425T162707Z
LAST-MODIFIED:20240425T164953Z
UID:4970-1714176000-1714262399@colneyachtclub.org.uk
SUMMARY:Cadets Fitting Out and AGM
DESCRIPTION:Calling all Cadets and supporters. Please join us at 10 am on Saturday 27th April in the CYC Yard.  Fitting Out will be followed by the Cadet AGM. \nLook forward to seeing you all.
URL:https://colneyachtclub.org.uk/event/cadets-fitting-out-and-agm/
CATEGORIES:Cadets,Social Events
ATTACH;FMTTYPE=image/jpeg:https://colneyachtclub.org.uk/wp-content/uploads/2023/03/CYC-cadets.jpg
END:VEVENT
BEGIN:VEVENT
DTSTART;TZID=Europe/London:20230724T090000
DTEND;TZID=Europe/London:20230728T170000
DTSTAMP:20260420T010140
CREATED:20230623T061818Z
LAST-MODIFIED:20230623T061818Z
UID:3921-1690189200-1690563600@colneyachtclub.org.uk
SUMMARY:Cadet Activity Week 2023
DESCRIPTION:Cadet Activity Week is an incredibly popular event in the CYC Calendar. We still have a few places left for this year’s event which runs from 24-28 July. Please complete a booking form.
URL:https://colneyachtclub.org.uk/event/cadet-activity-week-2023/
LOCATION:Colne Yacht Club
CATEGORIES:Cadets
ATTACH;FMTTYPE=image/jpeg:https://colneyachtclub.org.uk/wp-content/uploads/2023/06/final-landscape-scaled.jpg
END:VEVENT
END:VCALENDAR